Workbook

Sheet FT039
A1: 1 | B1: 2 | C1: 3 | D1: 4 | E1: 5 | F1: 6 | G1: 7 | H1: 8 | I1: 9 | J1: 10 | K1: 11 | L1: 12 | M1: 13 | N1: 14 | O1: 15 | P1: 16 | Q1: 17 | R1: 18 | S1: 19 | T1: 20
A2: tipoIdAcreedor | B2: dAcreedor | C2: codigoMunicipio | D2: FechaConciliacion | E2: Asistencia | F2: numeroActa | G2: acuerdo | H2: Fecha Acuerdo | I2: TipoDeuda | J2: valor Pagado | K2: monto Conciliar ERP | L2: monto Conciliar EBP | M2: devoluciones | N2: glosa | O2: glosaAceptadaEBP | P2: glosaSubsanadaERP | Q2: glosaNOresuelta | R2: valor Conciliado | S2: fecha Pago Compromiso | T2: valor Pagar
A3: NI | B3: 800154347 | C3: 47245 | D3: 46190 | E3: 2 | F3: NA | G3: 2 | H3: =+D3+1 -> 46191 | I3: 7 | J3: 0 | K3: 24722996 | L3: 0 | M3: 0 | N3: 0 | O3: 0 | P3: 0 | Q3: 0 | R3: 0 | S3: 01/01/1800 | T3: 0 | U3: ESEHOSPITALLACANDELARIA
A4: NI | B4: 806001061 | C4: 13001 | D4: 46183 | E4: 2 | F4: NA | G4: 2 | H4: =+D4+1 -> 46184 | I4: 7 | J4: 0 | K4: 263956946 | L4: 0 | M4: 0 | N4: 156354942 | O4: 0 | P4: 0 | Q4: 0 | R4: 0 | S4: 01/01/1800 | T4: 0 | U4: ESECLINICAMATERNIDADRAFAELCALVO
A5: NI | B5: 806004548 | C5: 13001 | D5: 46154 | E5: 2 | F5: NA | G5: 2 | H5: =+D5+1 -> 46155 | I5: 7 | J5: 0 | K5: 27209639 | L5: 0 | M5: 0 | N5: 0 | O5: 0 | P5: 0 | Q5: 0 | R5: 0 | S5: 01/01/1800 | T5: 0 | U5: CENTROMEDICOCRECERLTDA
A6: NI | B6: 860028947 | C6: 13001 | D6: 46170 | E6: 2 | F6: NA | G6: 2 | H6: =+D6+1 -> 46171 | I6: 7 | J6: 0 | K6: 20186968 | L6: 0 | M6: 0 | N6: 33703543 | O6: 0 | P6: 0 | Q6: 0 | R6: 0 | S6: 01/01/1800 | T6: 0 | U6: CONGREGACINDEHERMANASFRANCISCANASMISIONERASDEMARIAAUXILIADORAPROVINCIAMARIAAUXILIADORA
A7: NI | B7: 890480135 | C7: 13001 | D7: 46191 | E7: 2 | F7: NA | G7: 2 | H7: =+D7+1 -> 46192 | I7: 7 | J7: 0 | K7: 1309642414 | L7: 0 | M7: 0 | N7: 6382440 | O7: 0 | P7: 0 | Q7: 0 | R7: 0 | S7: 01/01/1800 | T7: 0 | U7: FUNDACIONHOSPITALINFANTILNAPOLEONFRANCOPAREJA
A8: NI | B8: 900036695 | C8: 13001 | D8: 46170 | E8: 2 | F8: NA | G8: 2 | H8: =+D8+1 -> 46171 | I8: 7 | J8: 0 | K8: 316290325 | L8: 0 | M8: 0 | N8: 4517050 | O8: 0 | P8: 0 | Q8: 0 | R8: 0 | S8: 01/01/1800 | T8: 0 | U8: INTENSIVISTASMATERNIDADRAFAELCALVO
A9: NI | B9: 900196346 | C9: 13244 | D9: 46163 | E9: 2 | F9: NA | G9: 2 | H9: =+D9+1 -> 46164 | I9: 7 | J9: 0 | K9: 41122325 | L9: 0 | M9: 0 | N9: 36756500 | O9: 0 | P9: 0 | Q9: 0 | R9: 0 | S9: 01/01/1800 | T9: 0 | U9: ESEHOSPITALNUESTRASEORADELCARMEN
A10: NI | B10: 900223749 | C10: 13001 | D10: 46196 | E10: 2 | F10: NA | G10: 2 | H10: =+D10+1 -> 46197 | I10: 7 | J10: 0 | K10: 449045702 | L10: 0 | M10: 0 | N10: 9905319 | O10: 0 | P10: 0 | Q10: 0 | R10: 0 | S10: 01/01/1800 | T10: 0 | U10: FUNDACINUNIDADDECUIDADOSINTENSIVOSDOAPILAR
A11: NI | B11: 900269029 | C11: 13001 | D11: 46203 | E11: 2 | F11: NA | G11: 2 | H11: =+D11+1 -> 46204 | I11: 7 | J11: 0 | K11: 25997328 | L11: 0 | M11: 0 | N11: 42239651 | O11: 0 | P11: 0 | Q11: 0 | R11: 0 | S11: 01/01/1800 | T11: 0 | U11: FUNDACIONCENTROCOLOMBIANODEEPILEPSIAYENFERMEDADESNEUROLOGICASFIRE
A12: NI | B12: 806001061 | C12: 13001 | D12: 46183 | E12: 2 | F12: NA | G12: 2 | H12: =+D12+1 -> 46184 | I12: 7 | J12: 0 | K12: 899764 | L12: 0 | M12: 0 | N12: 0 | O12: 0 | P12: 0 | Q12: 0 | R12: 0 | S12: 01/01/1800 | T12: 0 | U12: ESECLINICAMATERNIDADRAFAELCALVO
A13: NI | B13: 806004548 | C13: 13001 | D13: 46154 | E13: 2 | F13: NA | G13: 2 | H13: =+D13+1 -> 46155 | I13: 4 | J13: 0 | K13: 28989830 | L13: 0 | M13: 0 | N13: 0 | O13: 0 | P13: 0 | Q13: 0 | R13: 0 | S13: 01/01/1800 | T13: 0 | U13: CENTROMEDICOCRECERLTDA
A14: NI | B14: 811016192 | C14: 05001 | D14: 46157 | E14: 2 | F14: NA | G14: 2 | H14: =+D14+1 -> 46158 | I14: 4 | J14: 0 | K14: 0 | L14: 0 | M14: 0 | N14: 0 | O14: 0 | P14: 0 | Q14: 0 | R14: 0 | S14: 01/01/1800 | T14: 0 | U14: IPSUNIVERSITARIADEANTIOQUIA
A15: NI | B15: 860028947 | C15: 13001 | D15: 46170 | E15: 2 | F15: NA | G15: 2 | H15: =+D15+1 -> 46171 | I15: 4 | J15: 0 | K15: 6304450 | L15: 0 | M15: 0 | N15: 0 | O15: 0 | P15: 0 | Q15: 0 | R15: 0 | S15: 01/01/1800 | T15: 0 | U15: CONGREGACINDEHERMANASFRANCISCANASMISIONERASDEMARIAAUXILIADORAPROVINCIAMARIAAUXILIADORA
A16: NI | B16: 890480135 | C16: 13001 | D16: 46191 | E16: 2 | F16: NA | G16: 2 | H16: =+D16+1 -> 46192 | I16: 4 | J16: 0 | K16: 9747720 | L16: 0 | M16: 0 | N16: 0 | O16: 0 | P16: 0 | Q16: 0 | R16: 0 | S16: 01/01/1800 | T16: 0 | U16: FUNDACIONHOSPITALINFANTILNAPOLEONFRANCOPAREJA
A17: NI | B17: 900036695 | C17: 13001 | D17: 46170 | E17: 2 | F17: NA | G17: 2 | H17: =+D17+1 -> 46171 | I17: 4 | J17: 0 | K17: 1158120 | L17: 0 | M17: 0 | N17: 0 | O17: 0 | P17: 0 | Q17: 0 | R17: 0 | S17: 01/01/1800 | T17: 0 | U17: INTENSIVISTASMATERNIDADRAFAELCALVO
A18: NI | B18: 900223749 | C18: 13001 | D18: 46196 | E18: 2 | F18: NA | G18: 2 | H18: =+D18+1 -> 46197 | I18: 4 | J18: 0 | K18: 1718698 | L18: 0 | M18: 0 | N18: 0 | O18: 0 | P18: 0 | Q18: 0 | R18: 0 | S18: 01/01/1800 | T18: 0 | U18: FUNDACINUNIDADDECUIDADOSINTENSIVOSDOAPILAR
A19: NI | B19: 900269029 | C19: 13001 | D19: 46203 | E19: 2 | F19: NA | G19: 2 | H19: =+D19+1 -> 46204 | I19: 4 | J19: 0 | K19: 0 | L19: 0 | M19: 0 | N19: 0 | O19: 0 | P19: 0 | Q19: 0 | R19: 0 | S19: 01/01/1800 | T19: 0 | U19: FUNDACIONCENTROCOLOMBIANODEEPILEPSIAYENFERMEDADESNEUROLOGICASFIRE
A20: NI | B20: 800154347 | C20: 47245 | D20: 46190 | E20: 2 | F20: NA | G20: 2 | H20: =+D20+1 -> 46191 | I20: 5 | J20: 0 | K20: 401512255 | L20: 0 | M20: 0 | N20: 5477900 | O20: 0 | P20: 0 | Q20: 0 | R20: 0 | S20: 01/01/1800 | T20: 0 | U20: ESEHOSPITALLACANDELARIA
A21: NI | B21: 806001061 | C21: 13001 | D21: 46183 | E21: 2 | F21: NA | G21: 2 | H21: =+D21+1 -> 46184 | I21: 5 | J21: 0 | K21: 232700484 | L21: 0 | M21: 0 | N21: 0 | O21: 0 | P21: 0 | Q21: 0 | R21: 0 | S21: 01/01/1800 | T21: 0 | U21: ESECLINICAMATERNIDADRAFAELCALVO
A22: NI | B22: 806004548 | C22: 13001 | D22: 46154 | E22: 2 | F22: NA | G22: 2 | H22: =+D22+1 -> 46155 | I22: 5 | J22: 0 | K22: 4973678 | L22: 0 | M22: 0 | N22: 0 | O22: 0 | P22: 0 | Q22: 0 | R22: 0 | S22: 01/01/1800 | T22: 0 | U22: CENTROMEDICOCRECERLTDA
A23: NI | B23: 811016192 | C23: 05001 | D23: 46157 | E23: 2 | F23: NA | G23: 2 | H23: =+D23+1 -> 46158 | I23: 5 | J23: 0 | K23: 17463480 | L23: 0 | M23: 0 | N23: 0 | O23: 0 | P23: 0 | Q23: 0 | R23: 0 | S23: 01/01/1800 | T23: 0 | U23: IPSUNIVERSITARIADEANTIOQUIA
A24: NI | B24: 860028947 | C24: 13001 | D24: 46170 | E24: 2 | F24: NA | G24: 2 | H24: =+D24+1 -> 46171 | I24: 5 | J24: 0 | K24: 86863309 | L24: 0 | M24: 0 | N24: 0 | O24: 0 | P24: 0 | Q24: 0 | R24: 0 | S24: 01/01/1800 | T24: 0 | U24: CONGREGACINDEHERMANASFRANCISCANASMISIONERASDEMARIAAUXILIADORAPROVINCIAMARIAAUXILIADORA
A25: NI | B25: 890480135 | C25: 13001 | D25: 46191 | E25: 2 | F25: NA | G25: 2 | H25: =+D25+1 -> 46192 | I25: 5 | J25: 0 | K25: 1063075263 | L25: 0 | M25: 0 | N25: 0 | O25: 0 | P25: 0 | Q25: 0 | R25: 0 | S25: 01/01/1800 | T25: 0 | U25: FUNDACIONHOSPITALINFANTILNAPOLEONFRANCOPAREJA
A26: NI | B26: 900036695 | C26: 13001 | D26: 46170 | E26: 2 | F26: NA | G26: 2 | H26: =+D26+1 -> 46171 | I26: 5 | J26: 0 | K26: 1310450614 | L26: 0 | M26: 0 | N26: 0 | O26: 0 | P26: 0 | Q26: 0 | R26: 0 | S26: 01/01/1800 | T26: 0 | U26: INTENSIVISTASMATERNIDADRAFAELCALVO
A27: NI | B27: 900196346 | C27: 13244 | D27: 46163 | E27: 2 | F27: NA | G27: 2 | H27: =+D27+1 -> 46164 | I27: 5 | J27: 0 | K27: 49915423 | L27: 0 | M27: 0 | N27: 687473 | O27: 0 | P27: 0 | Q27: 0 | R27: 0 | S27: 01/01/1800 | T27: 0 | U27: ESEHOSPITALNUESTRASEORADELCARMEN
A28: NI | B28: 900223749 | C28: 13001 | D28: 46196 | E28: 2 | F28: NA | G28: 2 | H28: =+D28+1 -> 46197 | I28: 5 | J28: 0 | K28: 502908555 | L28: 0 | M28: 0 | N28: 19755701 | O28: 0 | P28: 0 | Q28: 0 | R28: 0 | S28: 01/01/1800 | T28: 0 | U28: FUNDACINUNIDADDECUIDADOSINTENSIVOSDOAPILAR
A29: NI | B29: 900269029 | C29: 13001 | D29: 46203 | E29: 2 | F29: NA | G29: 2 | H29: =+D29+1 -> 46204 | I29: 5 | J29: 0 | K29: 8157686 | L29: 0 | M29: 0 | N29: 3613456 | O29: 0 | P29: 0 | Q29: 0 | R29: 0 | S29: 01/01/1800 | T29: 0 | U29: FUNDACIONCENTROCOLOMBIANODEEPILEPSIAYENFERMEDADESNEUROLOGICASFIRE

Sheet FT033 DIC-2025
A1: tipo Id Acreedor | B1: id Acreedor | C1: dv Acreedor | D1: nombre Acreedor | E1: naturaleza Acreedor | F1: tipo Deuda | G1: vigencia Deuda | H1: valor Radicado | I1: pendiente Auditar | J1: valor Auditado | K1: valorGlosa | L1: pendiente Conciliar | M1: valor Reconocido | N1: anticipo Pendiente | O1: pagado Reconocido | P1: valor Pagado | Q1: Pendiente Pago | R1: sgp Prestacion | S1: excedente SGP | T1: impuesto Licor | U1: impuesto Cerveza | V1: excedente Rentas | W1: excedente Maestra | X1: transferencias MSPS | Y1: otros Recursos | Z1: cuales Otros | AA1: XX
A2: NI | B2: 890980066 | C2: 9 | D2: ESEHOSPITALSANRAFAELDEITAGUI | E2: PU | F2: PNAF | G2: 2008 | H2: 2752739 | I2: 0 | J2: 2752739 | K2: 0 | L2: 0 | M2: 2752739 | N2: 0 | O2: 0 | P2: 0 | Q2: 2752739 | R2: 0 | S2: 0 | T2: 0 | U2: 0 | V2: 0 | W2: 0 | X2: 0 | Y2: 0 | Z2: NA | AA2: =VLOOKUP(B2,'FT039'!$B$3:$B$12,1,0) -> #N/A
A3: NI | B3: 890980066 | C3: 9 | D3: ESEHOSPITALSANRAFAELDEITAGUI | E3: PU | F3: PNAF | G3: 2010 | H3: 23968739 | I3: 0 | J3: 23968739 | K3: 0 | L3: 0 | M3: 23968739 | N3: 0 | O3: 0 | P3: 0 | Q3: 23968739 | R3: 0 | S3: 0 | T3: 0 | U3: 0 | V3: 0 | W3: 0 | X3: 0 | Y3: 0 | Z3: NA | AA3: =VLOOKUP(B3,'FT039'!$B$3:$B$12,1,0) -> #N/A
A4: NI | B4: 900136865 | C4: 3 | D4: ESEHOSPITALREGIONALMAGDALENAMEDIOBARRANCABERMEJA | E4: PU | F4: PNAF | G4: 2010 | H4: 97015101 | I4: 0 | J4: 97015101 | K4: 6378156 | L4: 0 | M4: 90636945 | N4: 0 | O4: 0 | P4: 0 | Q4: 90636945 | R4: 0 | S4: 0 | T4: 0 | U4: 0 | V4: 0 | W4: 0 | X4: 0 | Y4: 0 | Z4: NA | AA4: =VLOOKUP(B4,'FT039'!$B$3:$B$12,1,0) -> #N/A
A5: NI | B5: 892300175 | C5: 4 | D5: HOSPITALREGIONALSANANDRESESE | E5: PU | F5: PNAF | G5: 2011 | H5: 1776920 | I5: 0 | J5: 1776920 | K5: 0 | L5: 0 | M5: 1776920 | N5: 0 | O5: 1776920 | P5: 1776920 | Q5: 0 | R5: 0 | S5: 0 | T5: 1776920 | U5: 0 | V5: 0 | W5: 0 | X5: 0 | Y5: 0 | Z5: NA | AA5: =VLOOKUP(B5,'FT039'!$B$3:$B$12,1,0) -> #N/A
A6: NI | B6: 900136865 | C6: 3 | D6: ESEHOSPITALREGIONALMAGDALENAMEDIOBARRANCABERMEJA | E6: PU | F6: PNAF | G6: 2011 | H6: 86540813 | I6: 0 | J6: 86540813 | K6: 8550081 | L6: 0 | M6: 77990732 | N6: 0 | O6: 0 | P6: 0 | Q6: 77990732 | R6: 0 | S6: 0 | T6: 0 | U6: 0 | V6: 0 | W6: 0 | X6: 0 | Y6: 0 | Z6: NA | AA6: =VLOOKUP(B6,'FT039'!$B$3:$B$12,1,0) -> #N/A
A7: NI | B7: 900304958 | C7: 0 | D7: SOCIEDADSANJOSEDETORICESSAS | E7: PR | F7: PNAF | G7: 2011 | H7: 7048816 | I7: 0 | J7: 7048816 | K7: 2662500 | L7: 0 | M7: 4386316 | N7: 0 | O7: 0 | P7: 0 | Q7: 4386316 | R7: 0 | S7: 0 | T7: 0 | U7: 0 | V7: 0 | W7: 0 | X7: 0 | Y7: 0 | Z7: NA | AA7: =VLOOKUP(B7,'FT039'!$B$3:$B$12,1,0) -> #N/A
A8: NI | B8: 892300175 | C8: 4 | D8: HOSPITALREGIONALSANANDRESESE | E8: PU | F8: PNAF | G8: 2012 | H8: 9912350 | I8: 0 | J8: 9912350 | K8: 2578468 | L8: 0 | M8: 7333882 | N8: 0 | O8: 7333882 | P8: 7333882 | Q8: 0 | R8: 0 | S8: 0 | T8: 7333882 | U8: 0 | V8: 0 | W8: 0 | X8: 0 | Y8: 0 | Z8: NA | AA8: =VLOOKUP(B8,'FT039'!$B$3:$B$12,1,0) -> #N/A
A9: NI | B9: 800249241 | C9: 0 | D9: EPSCOOSALUD | E9: PR | F9: NUPC | G9: 2013 | H9: 8138468 | I9: 0 | J9: 8138468 | K9: 0 | L9: 0 | M9: 8138468 | N9: 0 | O9: 0 | P9: 0 | Q9: 8138468 | R9: 0 | S9: 0 | T9: 0 | U9: 0 | V9: 0 | W9: 0 | X9: 0 | Y9: 0 | Z9: NA | AA9: =VLOOKUP(B9,'FT039'!$B$3:$B$12,1,0) -> #N/A
A10: NI | B10: 830074184 | C10: 5 | D10: SALUDVIDAEPS | E10: PR | F10: NUPC | G10: 2013 | H10: 7152182 | I10: 0 | J10: 7152182 | K10: 238935 | L10: 0 | M10: 6913247 | N10: 0 | O10: 6913247 | P10: 6913247 | Q10: 0 | R10: 0 | S10: 0 | T10: 0 | U10: 6913247 | V10: 0 | W10: 0 | X10: 0 | Y10: 0 | Z10: NA | AA10: =VLOOKUP(B10,'FT039'!$B$3:$B$12,1,0) -> #N/A
A11: NI | B11: 900136865 | C11: 3 | D11: ESEHOSPITALREGIONALMAGDALENAMEDIOBARRANCABERMEJA | E11: PU | F11: PNAF | G11: 2013 | H11: 250694 | I11: 0 | J11: 250694 | K11: 45000 | L11: 0 | M11: 205694 | N11: 0 | O11: 0 | P11: 0 | Q11: 205694 | R11: 0 | S11: 0 | T11: 0 | U11: 0 | V11: 0 | W11: 0 | X11: 0 | Y11: 0 | Z11: NA | AA11: =VLOOKUP(B11,'FT039'!$B$3:$B$12,1,0) -> #N/A
A12: NI | B12: 800006850 | C12: 3 | D12: ESEHOSPITALMARIOGAITANYANGUAS | E12: PU | F12: PNAF | G12: 2014 | H12: 1526433 | I12: 0 | J12: 1526433 | K12: 123600 | L12: 0 | M12: 1402833 | N12: 0 | O12: 0 | P12: 0 | Q12: 1402833 | R12: 0 | S12: 0 | T12: 0 | U12: 0 | V12: 0 | W12: 0 | X12: 0 | Y12: 0 | Z12: NA | AA12: =VLOOKUP(B12,'FT039'!$B$3:$B$12,1,0) -> #N/A
A13: NI | B13: 800058016 | C13: 1 | D13: EMPRESASOCIALDELESTADOMETROSALUD | E13: PU | F13: PNAF | G13: 2014 | H13: 90014 | I13: 0 | J13: 90014 | K13: 0 | L13: 0 | M13: 90014 | N13: 0 | O13: 0 | P13: 0 | Q13: 90014 | R13: 0 | S13: 0 | T13: 0 | U13: 0 | V13: 0 | W13: 0 | X13: 0 | Y13: 0 | Z13: NA | AA13: =VLOOKUP(B13,'FT039'!$B$3:$B$12,1,0) -> #N/A
... A1154: NI | B1154: 900042103 | C1154: 5 | D1154: ESEHOSPITALUNIVERSITARIODELCARIBE | E1154: PU | F1154: MIGR | G1154: 2017 | H1154: 52734666 | I1154: 0 | J1154: 52734666 | K1154: 0 | L1154: 0 | M1154: 52734666 | N1154: 0 | O1154: 52734666 | P1154: 52734666 | Q1154: 0 | R1154: 0 | S1154: 0 | T1154: 0 | U1154: 52734666 | V1154: 0 | W1154: 0 | X1154: 0 | Y1154: 0 | Z1154: NA | AA1154: =VLOOKUP(B1154,'FT039'!$B$3:$B$12,1,0) -> #N/A
H1155: =SUM(H2:H1154) -> 183807924519 | I1155: =SUM(I2:I1154) -> 260643868 | J1155: =SUM(J2:J1154) -> 183547280651 | K1155: =SUM(K2:K1154) -> 37447273066 | L1155: =SUM(L2:L1154) -> 670236833 | M1155: =SUM(M2:M1154) -> 145429770752 | N1155: =SUM(N2:N1154) -> 0 | O1155: =SUM(O2:O1154) -> 124376810109 | ... Y1155: =SUM(Y2:Y1154) -> 20299709058

Sheet FT039 (2)
A1: 1 | B1: 2 | C1: 3 | D1: 4 | E1: 5 | F1: 6 | G1: 7 | H1: 8 | I1: 9 | J1: 10 | K1: 11 | L1: 12 | M1: 13 | N1: 14 | O1: 15 | P1: 16 | Q1: 17 | R1: 18 | S1: 19 | T1: 20
A2: tipoIdAcreedor | B2: dAcreedor | C2: codigoMunicipio | D2: FechaConciliacion | E2: Asistencia | F2: numeroActa | G2: acuerdo | H2: Fecha Acuerdo | I2: TipoDeuda | J2: valor Pagado | K2: monto Conciliar ERP | L2: monto Conciliar EBP | M2: devoluciones | N2: glosa | O2: glosaAceptadaEBP | P2: glosaSubsanadaERP | Q2: glosaNOresuelta | R2: valor Conciliado | S2: fecha Pago Compromiso | T2: valor Pagar
A3: NI | B3: 800154347 | C3: 47245 | D3: 46190 | E3: 2 | F3: NA | G3: 2 | H3: =+D3+1 -> 46191 | I3: 0 | J3: 0 | K3: 426235251 | L3: 0 | M3: 0 | N3: 5477900 | O3: 0 | P3: 0 | Q3: 0 | R3: 0 | S3: 01/01/1800 | T3: 0 | U3: ESE HOSPITAL LA CANDELARIA
A4: NI | B4: 806001061 | C4: 13001 | D4: 46183 | E4: 2 | F4: NA | G4: 2 | H4: =+D4+1 -> 46184 | I4: 0 | J4: 0 | K4: 497557194 | L4: 0 | M4: 0 | N4: 156354942 | O4: 0 | P4: 0 | Q4: 0 | R4: 0 | S4: 01/01/1800 | T4: 0 | U4: ESE CLINICA MATERNIDAD RAFAEL CALVO
A5: NI | B5: 806004548 | C5: 13001 | D5: 46154 | E5: 2 | F5: NA | G5: 2 | H5: =+D5+1 -> 46155 | I5: 0 | J5: 0 | K5: 61173147 | L5: 0 | M5: 0 | N5: 0 | O5: 0 | P5: 0 | Q5: 0 | R5: 0 | S5: 01/01/1800 | T5: 0 | U5: CENTRO MEDICO CRECER LTDA
A6: NI | B6: 811016192 | C6: 05001 | D6: 46157 | E6: 2 | F6: NA | G6: 2 | H6: =+D6+1 -> 46158 | I6: 0 | J6: 0 | K6: 17463480 | L6: 0 | M6: 0 | N6: 0 | O6: 0 | P6: 0 | Q6: 0 | R6: 0 | S6: 01/01/1800 | T6: 0 | U6: IPS UNIVERSITARIA DE ANTIOQUIA
A7: NI | B7: 860028947 | C7: 13001 | D7: 46170 | E7: 2 | F7: NA | G7: 2 | H7: =+D7+1 -> 46171 | I7: 0 | J7: 0 | K7: 113354727 | L7: 0 | M7: 0 | N7: 33703543 | O7: 0 | P7: 0 | Q7: 0 | R7: 0 | S7: 01/01/1800 | T7: 0 | U7: CONGREGACINDEHERMANASFRANCISCANASMISIONERASDEMARIAAUXILIADORAPROVINCIAMARIAAUXILIADORA
A8: NI | B8: 890480135 | C8: 13001 | D8: 46191 | E8: 2 | F8: NA | G8: 2 | H8: =+D8+1 -> 46192 | I8: 0 | J8: 0 | K8: 2382465397 | L8: 0 | M8: 0 | N8: 6382440 | O8: 0 | P8: 0 | Q8: 0 | R8: 0 | S8: 01/01/1800 | T8: 0 | U8: FUNDACION HOSPITAL INFANTIL NAPOLEON FRANCO PAREJA
A9: NI | B9: 900036695 | C9: 13001 | D9: 46170 | E9: 2 | F9: NA | G9: 2 | H9: =+D9+1 -> 46171 | I9: 0 | J9: 0 | K9: 1627899059 | L9: 0 | M9: 0 | N9: 4517050 | O9: 0 | P9: 0 | Q9: 0 | R9: 0 | S9: 01/01/1800 | T9: 0 | U9: INTENSIVISTAS MATERNIDAD RAFAEL CALVO
A10: NI | B10: 900196346 | C10: 13244 | D10: 46163 | E10: 2 | F10: NA | G10: 2 | H10: =+D10+1 -> 46164 | I10: 0 | J10: 0 | K10: 91037748 | L10: 0 | M10: 0 | N10: 37443973 | O10: 0 | P10: 0 | Q10: 0 | R10: 0 | S10: 01/01/1800 | T10: 0 | U10: ESE HOSPITAL NUESTRA SEORA DEL CARMEN
A11: NI | B11: 900223749 | C11: 13001 | D11: 46196 | E11: 2 | F11: NA | G11: 2 | H11: =+D11+1 -> 46197 | I11: 0 | J11: 0 | K11: 953672955 | L11: 0 | M11: 0 | N11: 29661020 | O11: 0 | P11: 0 | Q11: 0 | R11: 0 | S11: 01/01/1800 | T11: 0 | U11: FUNDACIN UNIDAD DE CUIDADOS INTENSIVOS DOAPILAR
A12: NI | B12: 900269029 | C12: 13001 | D12: 46203 | E12: 2 | F12: NA | G12: 2 | H12: =+D12+1 -> 46204 | I12: 0 | J12: 0 | K12: 34155014 | L12: 0 | M12: 0 | N12: 45853107 | O12: 0 | P12: 0 | Q12: 0 | R12: 0 | S12: 01/01/1800 | T12: 0 | U12: FUNDACION CENTRO COLOMBIANO D EEPILEPSIA Y ENFERMEDADES NEUROLOGICAS FIRE
