Workbook

Sheet INSTRUCTIVO
A1: INSTRUCTIVO PARA EL DILIGENCIAMIENTO DE LA MATRIZ DE SEGUIMIENTO AL PLAN DE DESARROLLO DEPARTAMENTAL 2024-2027 "BOLÍVAR ME ENAMORA" MATRIZ DE SEGUIMIENTO AL PLAN DE DESARROLLO DEPARTAMENTAL "El Plan de Desarrollo 2024-2027 Bolivar me enamora, se constituye en la mejor herramienta de seguimiento y control de la acción gubernamental, para el ciudadano interesado en ejercer su derecho constitucional y legal, de participación en los asuntos del Estado. Este plan, que ponemos a disposición del pueblo bolivarense; compila los objetivos, estrategias, programas y proyectos con los que haremos efectivos los principios constitucionales en los que se compromete a garantizar igualdad, bienestar y progreso. Fuente: Página web Gobernación de Bolívar" "Proposito del instrutivo: Implementar una estrategia de acompañamiento a los líderes de procesos y equipos de trabajo de la Gobernación de Bolívar, con el fin de brindar herramientas que faciliten el adecuado diligenciamiento de la matriz de seguimiento del Plan de Desarrollo 2024 - 2027." Alcance: Todas las dependencias de la Gobernación de Bolívar.
A2: Parámetros | B2: Lineamientos para el diligenciamiento | C2: Formato de la celda
A3: LINEA ESTRATEGICA | B3: Incluir la información contenida en el Plan de Desarrollo 2024 - 2027. | C3: TEXTO
A4: COMPONENTE | B4: Incluir la información contenida en el Plan de Desarrollo 2024 - 2027. | C4: TEXTO
A5: PROGRAMA | B5: Incluir la información contenida en el Plan de Desarrollo 2024 - 2027. | C5: TEXTO
A6: CODIGO DE PROGRAMA | B6: Incluir la información contenida en el Plan de Desarrollo 2024 - 2027. | C6: NÚMERO
A7: PROG MANUAL GASTO PROGRAMA | B7: Incluir la información contenida en el Plan de Desarrollo 2024 - 2027. | C7: TEXTO
A8: NOMBRE SECTOR FUT | B8: Incluir la información contenida en el Plan de Desarrollo 2024 - 2027. | C8: TEXTO
A9: NUMERO INDICADOR | B9: Incluir la información contenida en el Plan de Desarrollo 2024 - 2027. | C9: NÚMERO
A10: INDICADOR PERZONALIZADO | B10: Incluir la información contenida en el Plan de Desarrollo 2024 - 2027. | C10: TEXTO
A11: CODIGO DE PRODUCTO | B11: Incluir la información contenida en el Plan de Desarrollo 2024 - 2027. | C11: NÚMERO
A12: PRODUCTO | B12: Incluir la información contenida en el Plan de Desarrollo 2024 - 2027. | C12: TEXTO
A13: INDICADOR DE PRODUCTO | B13: Incluir la información contenida en el Plan de Desarrollo 2024 - 2027. | C13: TEXTO
... A34: PORCENTAJE EJECUTADO 2026 (PRESUPUESTO EJECUTADO / PRESUPUESTO PROYECTADO) | B34: Realizar el calculo, tal como lo describe la columna, deberá realizar la división del presupuesto ejecutado con el presupuesto proyectado. El resultadode esta división debe registrarse en porcentaje. | C34: PORCENTAJE

Sheet MATRIZ PDD 2026
A1: ID | B1: DEPENDENCIA | C1: LINEA ESTRATEGICA | D1: COMPONENTE | E1: PROGRAMA | F1: CODIGO DE PROGRAMA | G1: PROG MANUAL GASTO PROGRAMA | H1: NOMBRE SECTOR FUT | I1: NUMERO INDICADOR | J1: INDICADOR PERZONALIZADO | K1: CODIGO DE PRODUCTO | L1: PRODUCTO | M1: INDICADOR DE PRODUCTO | N1: UNIDAD DE MEDIDA | O1: LINEA BASE (Número) | P1: AÑO | Q1: FUENTE | R1: META PRODUCTO ESPERADO 2026 | S1: META PRODUCTO ESPERADO CUATRENIO (2024 - 2027) | T1: AVANCE META FINAL PRODUCTO 2024 | U1: 2024 VS CUATRENIO | V1: AVANCE META FINAL PRODUCTO 2025 | W1: 2025 VS CUATRENIO | X1: AVANCE META PRODUCTO MAR 2026 | Y1: AVANCE META PRODUCTO JUNIO 2026 | Z1: AVANCE META PRODUCTO SEPTIEMBRE 2026 | AA1: AVANCE META PRODUCTO DICIEMBRE 2026 | AB1: TOTAL AVANCE 2026 | AC1: 2026 VS CUATRENIO | AD1: TOTAL AVANCE ACUMULADO | AE1: AVANCE % 2026 | AF1: AVANCE ACUMULADO | AG1: PRESUPUESTO PROYECTADO 2026 ($) | AH1: FUENTE DE FINANCIACION | AI1: PRESUPUESTO EJECUTADO 2026 ($) | AJ1: PORCENTAJE EJECUTADO 2026
A2: 1 | B2: SECRETARÍA DE PLANEACIÓN | C2: BOLIVAR ME ENAMORA CON JUSTICIA SOCIAL; CIERRE DE BRECHAS Y CALIDAD DE VIDA PARA TODOS | D2: BOLÍVAR ME ENAMORA EN HÁBITAT, VIVIENDA Y SERVICIOS PÚBLICOS | E2: FORMALIZACIÓN DE LA TIERRA | F2: 4001 | G2: ACCESO A SOLUCIONES DE VIVIENDA | H2: PROYECTOS DE TITULACIÓN Y LEGALIZACIÓN DE PREDIOS | I2: 4 | J2: TITULACIÓN DE 1000 PREDIOS EN EL DEPARTAMENTO DE BOLÍVAR | K2: 4001007 | L2: SERVICIO DE SANEAMIENTO Y TITULACIÓN DE BIENES FISCALES | M2: BIENES FISCALES SANEADOS Y TITULADOS | N2: NÚMERO | O2: 0 | P2: N/A | Q2: N/A | R2: 250 | S2: 1000 | U2: =+T2/S2 -> 0 | W2: =+V2/S2 -> 0 | X2: {=IFERROR(INDEX(ejecuciones[Column1.ejecutado],MATCH(1,(ejecuciones[Column1.codigoIndicador]=A2)*(ejecuciones[periodo avance]="Marzo"),0)),0)} -> 130 | Y2: {=IFERROR(INDEX(ejecuciones[Column1.ejecutado],MATCH(1,(ejecuciones[Column1.codigoIndicador]=A2)*(ejecuciones[periodo avance]="Junio"),0)),0)} -> 0 | Z2: {=IFERROR(INDEX(ejecuciones[Column1.ejecutado],MATCH(1,(ejecuciones[Column1.codigoIndicador]=A2)*(ejecuciones[periodo avance]="Septiembre"),0)),0)} -> 0 | AA2: {=IFERROR(INDEX(ejecuciones[Column1.ejecutado],MATCH(1,(ejecuciones[Column1.codigoIndicador]=A2)*(ejecuciones[periodo avance]="Diciembre"),0)),0)} -> 0 | AB2: =+X2+Y2+Z2+AA2 -> 130 | AC2: =+AB2/S2 -> 0.13 | AD2: =T2+V2+AB2 -> 130 | AE2: =+AB2/R2 -> 0.52 | AF2: =AD2/S2 -> 0.13 | AG2: {=IFERROR(INDEX(ejecuciones[Column1.presupuestoProyectado],MATCH(1,(ejecuciones[Column1.codigoIndicador]=A2)*(ejecuciones[Column1.fechaDiligenciamiento]=_xlfn.MAXIFS(ejecuciones[Column1.fechaDiligenciamiento],ejecuciones[Column1.codigoIndicador],A2)),0)),0)} -> 168900000 | AI2: {=IFERROR(INDEX(ejecuciones[Column1.presupuestoEjecutado],MATCH(1,(ejecuciones[Column1.codigoIndicador]=A2)*(ejecuciones[Column1.fechaDiligenciamiento]=_xlfn.MAXIFS(ejecuciones[Column1.fechaDiligenciamiento],ejecuciones[Column1.codigoIndicador],A2)),0)),0)} -> 42225000 | AJ2: =IFERROR(AI2/AG2,0) -> 0.25
A3: 2 | B3: SECRETARÍA DE PLANEACIÓN | C3: BOLIVAR ME ENAMORA CON INSTITUCIONALIDAD FUERTE; TRANSPARENCIA COMO BASE DE UNA BUENA GESTION | D3: BOLÍVAR ME ENAMORA CON INSTRUMENTOS DE PLANIFICACIÓN TERRITORIAL | E3: INSTRUMENTOS DE PLANEACIÓN TERRTORIAL A LOS MUNICIPIOS | F3: 4599 | G3: FORTALECIMIENTO A LA GESTIÓN Y DIRECCIÓN DE LA ADMINISTRACIÓN PÚBLICA TERRITORIAL | H3: PROGRAMAS DE CAPACITACIÓN Y ASISTENCIA TÉCNICA ORIENTADOS AL DESARROLLO EFICIENTE DE LAS COMPETENCIAS DE LEY | I3: 5 | J3: PROGRAMA SOPORTE PARA ECOSISTEMAS DE PLANEACIÓN Y ANÁLISIS DE DATOS | K3: 4599031 | L3: SERVICIO DE ASISTENCIA TÉCNICA | M3: ENTIDADES TERRITORIALES ASISTIDAS TÉCNICAMENTE | N3: NÚMERO | O3: 0 | P3: N/A | Q3: N/A | R3: 5 | S3: 20 | U3: =+T3/S3 -> 0 | W3: =+V3/S3 -> 0 | X3: {=IFERROR(INDEX(ejecuciones[Column1.ejecutado],MATCH(1,(ejecuciones[Column1.codigoIndicador]=A3)*(ejecuciones[periodo avance]="Marzo"),0)),0)} -> 45 | Y3: {=IFERROR(INDEX(ejecuciones[Column1.ejecutado],MATCH(1,(ejecuciones[Column1.codigoIndicador]=A3)*(ejecuciones[periodo avance]="Junio"),0)),0)} -> 45 | Z3: {=IFERROR(INDEX(ejecuciones[Column1.ejecutado],MATCH(1,(ejecuciones[Column1.codigoIndicador]=A3)*(ejecuciones[periodo avance]="Septiembre"),0)),0)} -> 0 | AA3: {=IFERROR(INDEX(ejecuciones[Column1.ejecutado],MATCH(1,(ejecuciones[Column1.codigoIndicador]=A3)*(ejecuciones[periodo avance]="Diciembre"),0)),0)} -> 0 | AB3: =+X3+Y3+Z3+AA3 -> 90 | AC3: =+AB3/S3 -> 4.5 | AD3: =V3+AB3 -> 90 | AE3: =+AB3/R3 -> 18 | AF3: =AD3/S3 -> 4.5 | AG3: {=IFERROR(INDEX(ejecuciones[Column1.presupuestoProyectado],MATCH(1,(ejecuciones[Column1.codigoIndicador]=A3)*(ejecuciones[Column1.fechaDiligenciamiento]=_xlfn.MAXIFS(ejecuciones[Column1.fechaDiligenciamiento],ejecuciones[Column1.codigoIndicador],A3)),0)),0)} -> 0 | AI3: {=IFERROR(INDEX(ejecuciones[Column1.presupuestoEjecutado],MATCH(1,(ejecuciones[Column1.codigoIndicador]=A3)*(ejecuciones[Column1.fechaDiligenciamiento]=_xlfn.MAXIFS(ejecuciones[Column1.fechaDiligenciamiento],ejecuciones[Column1.codigoIndicador],A3)),0)),0)} -> 0 | AJ3: =IFERROR(AI3/AG3,0) -> 0
A4: 3 | B4: SECRETARÍA DE PLANEACIÓN | C4: BOLIVAR ME ENAMORA CON INSTITUCIONALIDAD FUERTE; TRANSPARENCIA COMO BASE DE UNA BUENA GESTION | D4: BOLÍVAR ME ENAMORA CON INSTRUMENTOS DE PLANIFICACIÓN TERRITORIAL | E4: CONSEJO TERRITORIAL DE PLANEACIÓN DE BOLIVAR | F4: 4502 | G4: FORTALECIMIENTO DEL BUEN GOBIERNO PARA EL RESPETO Y GARANTÍA DE LOS DERECHOS HUMANOS | H4: INSTANCIAS O ESPACIOS DE PARTICIPACIÓN | I4: 6 | J4: APOYO LOGISTICO Y ADMINISTRATIVO DEL CTP | K4: 4502001 | L4: SERVICIO DE PROMOCIÓN A LA PARTICIPACIÓN CIUDADANA | M4: INSTANCIAS FORMALES Y NO FORMALES DE PARTICIPACIÓN FORTALECIDAS | N4: NÚMERO | O4: 0 | P4: N/A | Q4: N/A | R4: 1 | S4: 4 | U4: =+T4/S4 -> 0 | W4: =+V4/S4 -> 0 | X4: {=IFERROR(INDEX(ejecuciones[Column1.ejecutado],MATCH(1,(ejecuciones[Column1.codigoIndicador]=A4)*(ejecuciones[periodo avance]="Marzo"),0)),0)} -> 1 | Y4: {=IFERROR(INDEX(ejecuciones[Column1.ejecutado],MATCH(1,(ejecuciones[Column1.codigoIndicador]=A4)*(ejecuciones[periodo avance]="Junio"),0)),0)} -> 0 | Z4: {=IFERROR(INDEX(ejecuciones[Column1.ejecutado],MATCH(1,(ejecuciones[Column1.codigoIndicador]=A4)*(ejecuciones[periodo avance]="Septiembre"),0)),0)} -> 0 | AA4: {=IFERROR(INDEX(ejecuciones[Column1.ejecutado],MATCH(1,(ejecuciones[Column1.codigoIndicador]=A4)*(ejecuciones[periodo avance]="Diciembre"),0)),0)} -> 0 | AB4: =+X4+Y4+Z4+AA4 -> 1 | AC4: =+AB4/S4 -> 0.25 | AD4: =V4+AB4 -> 1 | AE4: =+AB4/R4 -> 1 | AF4: =AD4/S4 -> 0.25 | AG4: {=IFERROR(INDEX(ejecuciones[Column1.presupuestoProyectado],MATCH(1,(ejecuciones[Column1.codigoIndicador]=A4)*(ejecuciones[Column1.fechaDiligenciamiento]=_xlfn.MAXIFS(ejecuciones[Column1.fechaDiligenciamiento],ejecuciones[Column1.codigoIndicador],A4)),0)),0)} -> 150300000 | AI4: {=IFERROR(INDEX(ejecuciones[Column1.presupuestoEjecutado],MATCH(1,(ejecuciones[Column1.codigoIndicador]=A4)*(ejecuciones[Column1.fechaDiligenciamiento]=_xlfn.MAXIFS(ejecuciones[Column1.fechaDiligenciamiento],ejecuciones[Column1.codigoIndicador],A4)),0)),0)} -> 150300000 | AJ4: =IFERROR(AI4/AG4,0) -> 1
A5: 4 | B5: SECRETARÍA DE PLANEACIÓN | C5: BOLIVAR ME ENAMORA CON INSTITUCIONALIDAD FUERTE; TRANSPARENCIA COMO BASE DE UNA BUENA GESTION | D5: BOLÍVAR ME ENAMORA CON INSTRUMENTOS DE PLANIFICACIÓN TERRITORIAL | E5: MODERNIZACIÓN SISTEMAS DE INFORMACIÓN EN PLANEACIÓN | F5: 4599 | G5: FORTALECIMIENTO A LA GESTIÓN Y DIRECCIÓN DE LA ADMINISTRACIÓN PÚBLICA TERRITORIAL | H5: PROMOCIÓN DEL DESARROLLO | I5: 7 | J5: 1. SISTEMA DE INFORMACIÓN GEOGRAFRICA. 2. SISTEMA DE SEGUIMIENTO A POLITICAS PÚBLICAS 3. SISTEMA INTEGRAL DE PLANEACIÓN | K5: 4599025 | L5: SERVICIOS DE INFORMACIÓN IMPLEMENTADOS | M5: SISTEMAS DE INFORMACIÓN IMPLEMENTADOS | N5: NÚMERO | O5: 0 | P5: N/A | Q5: N/A | R5: 1 | S5: 3 | U5: =+T5/S5 -> 0 | W5: =+V5/S5 -> 0 | X5: {=IFERROR(INDEX(ejecuciones[Column1.ejecutado],MATCH(1,(ejecuciones[Column1.codigoIndicador]=A5)*(ejecuciones[periodo avance]="Marzo"),0)),0)} -> 1 | Y5: {=IFERROR(INDEX(ejecuciones[Column1.ejecutado],MATCH(1,(ejecuciones[Column1.codigoIndicador]=A5)*(ejecuciones[periodo avance]="Junio"),0)),0)} -> 0 | Z5: {=IFERROR(INDEX(ejecuciones[Column1.ejecutado],MATCH(1,(ejecuciones[Column1.codigoIndicador]=A5)*(ejecuciones[periodo avance]="Septiembre"),0)),0)} -> 0 | AA5: {=IFERROR(INDEX(ejecuciones[Column1.ejecutado],MATCH(1,(ejecuciones[Column1.codigoIndicador]=A5)*(ejecuciones[periodo avance]="Diciembre"),0)),0)} -> 0 | AB5: =+X5+Y5+Z5+AA5 -> 1 | AC5: =+AB5/S5 -> 0.33333333 | AD5: =V5+AB5 -> 1 | AE5: =+AB5/R5 -> 1 | AF5: =AD5/S5 -> 0.33333333 | AG5: {=IFERROR(INDEX(ejecuciones[Column1.presupuestoProyectado],MATCH(1,(ejecuciones[Column1.codigoIndicador]=A5)*(ejecuciones[Column1.fechaDiligenciamiento]=_xlfn.MAXIFS(ejecuciones[Column1.fechaDiligenciamiento],ejecuciones[Column1.codigoIndicador],A5)),0)),0)} -> 0 | AI5: {=IFERROR(INDEX(ejecuciones[Column1.presupuestoEjecutado],MATCH(1,(ejecuciones[Column1.codigoIndicador]=A5)*(ejecuciones[Column1.fechaDiligenciamiento]=_xlfn.MAXIFS(ejecuciones[Column1.fechaDiligenciamiento],ejecuciones[Column1.codigoIndicador],A5)),0)),0)} -> 0 | AJ5: =IFERROR(AI5/AG5,0) -> 0
A6: 5 | B6: SECRETARÍA DE PLANEACIÓN | C6: BOLIVAR ME ENAMORA CON INSTITUCIONALIDAD FUERTE; TRANSPARENCIA COMO BASE DE UNA BUENA GESTION | D6: BOLÍVAR ME ENAMORA CON INSTRUMENTOS DE PLANIFICACIÓN TERRITORIAL | E6: FORTALECIMIENTO DE CAPACIDADES INSTITUCIONALES | F6: 4599 | G6: FORTALECIMIENTO A LA GESTIÓN Y DIRECCIÓN DE LA ADMINISTRACIÓN PÚBLICA TERRITORIAL | H6: PROMOCIÓN DEL DESARROLLO | I6: 8 | J6: FORTALECIMIENTO INSTITUCIONAL: OFERTA INSTITUCIONAL A LOS MUNICIPIOS. BANCO DE PROYECTOS, SISBEN, INFORMACIÓN GEOGRAFICA, ESTRATIFICACIÓN, | K6: 4599031 | L6: SERVICIO DE ASISTENCIA TÉCNICA | M6: ENTIDADES, ORGANISMOS Y DEPENDENCIAS ASISTIDOS TÉCNICAMENTE | N6: NÚMERO | O6: 45 | P6: 2023 | Q6: N/A | R6: 45 | S6: 45 | U6: =+T6/S6 -> 0 | W6: =+V6/S6 -> 0 | X6: {=IFERROR(INDEX(ejecuciones[Column1.ejecutado],MATCH(1,(ejecuciones[Column1.codigoIndicador]=A6)*(ejecuciones[periodo avance]="Marzo"),0)),0)} -> 20 | Y6: {=IFERROR(INDEX(ejecuciones[Column1.ejecutado],MATCH(1,(ejecuciones[Column1.codigoIndicador]=A6)*(ejecuciones[periodo avance]="Junio"),0)),0)} -> 10 | Z6: {=IFERROR(INDEX(ejecuciones[Column1.ejecutado],MATCH(1,(ejecuciones[Column1.codigoIndicador]=A6)*(ejecuciones[periodo avance]="Septiembre"),0)),0)} -> 0 | AA6: {=IFERROR(INDEX(ejecuciones[Column1.ejecutado],MATCH(1,(ejecuciones[Column1.codigoIndicador]=A6)*(ejecuciones[periodo avance]="Diciembre"),0)),0)} -> 0 | AB6: =+X6+Y6+Z6+AA6 -> 30 | AC6: =+AB6/S6 -> 0.66666667 | AD6: =V6+AB6 -> 30 | AE6: =+AB6/R6 -> 0.66666667 | AF6: =AD6/S6 -> 0.66666667 | AG6: {=IFERROR(INDEX(ejecuciones[Column1.presupuestoProyectado],MATCH(1,(ejecuciones[Column1.codigoIndicador]=A6)*(ejecuciones[Column1.fechaDiligenciamiento]=_xlfn.MAXIFS(ejecuciones[Column1.fechaDiligenciamiento],ejecuciones[Column1.codigoIndicador],A6)),0)),0)} -> 0 | AI6: {=IFERROR(INDEX(ejecuciones[Column1.presupuestoEjecutado],MATCH(1,(ejecuciones[Column1.codigoIndicador]=A6)*(ejecuciones[Column1.fechaDiligenciamiento]=_xlfn.MAXIFS(ejecuciones[Column1.fechaDiligenciamiento],ejecuciones[Column1.codigoIndicador],A6)),0)),0)} -> 0 | AJ6: =IFERROR(AI6/AG6,0) -> 0
A7: 6 | B7: SECRETARÍA DE PLANEACIÓN | C7: BOLIVAR ME ENAMORA CON INSTITUCIONALIDAD FUERTE; TRANSPARENCIA COMO BASE DE UNA BUENA GESTION | D7: BOLÍVAR ME ENAMORA CON INSTRUMENTOS DE PLANIFICACIÓN TERRITORIAL | E7: FORTALECIMIENTO DE CAPACIDADES INSTITUCIONALES | F7: 4002 | G7: ORDENAMIENTO TERRITORIAL Y DESARROLLO URBANO | H7: PROMOCIÓN DEL DESARROLLO | I7: 9 | J7: FORMULACIÓN DE POLITICA PÚBLICA SOBRE VOCACIÓN DEL SUELO | K7: 4599032 | L7: DOCUMENTOS DE POLÍTICA | M7: DOCUMENTOS DE POLÍTICA ELABORADOS | N7: NÚMERO | O7: 0 | P7: N/A | Q7: N/A | R7: 1 | S7: 1 | U7: =+T7/S7 -> 0 | W7: =+V7/S7 -> 0 | X7: {=IFERROR(INDEX(ejecuciones[Column1.ejecutado],MATCH(1,(ejecuciones[Column1.codigoIndicador]=A7)*(ejecuciones[periodo avance]="Marzo"),0)),0)} -> 0 | Y7: {=IFERROR(INDEX(ejecuciones[Column1.ejecutado],MATCH(1,(ejecuciones[Column1.codigoIndicador]=A7)*(ejecuciones[periodo avance]="Junio"),0)),0)} -> 0 | Z7: {=IFERROR(INDEX(ejecuciones[Column1.ejecutado],MATCH(1,(ejecuciones[Column1.codigoIndicador]=A7)*(ejecuciones[periodo avance]="Septiembre"),0)),0)} -> 0 | AA7: {=IFERROR(INDEX(ejecuciones[Column1.ejecutado],MATCH(1,(ejecuciones[Column1.codigoIndicador]=A7)*(ejecuciones[periodo avance]="Diciembre"),0)),0)} -> 0 | AB7: =+X7+Y7+Z7+AA7 -> 0 | AC7: =+AB7/S7 -> 0 | AD7: =V7+AB7 -> 0 | AE7: =+AB7/R7 -> 0 | AF7: =AD7/S7 -> 0 | AG7: {=IFERROR(INDEX(ejecuciones[Column1.presupuestoProyectado],MATCH(1,(ejecuciones[Column1.codigoIndicador]=A7)*(ejecuciones[Column1.fechaDiligenciamiento]=_xlfn.MAXIFS(ejecuciones[Column1.fechaDiligenciamiento],ejecuciones[Column1.codigoIndicador],A7)),0)),0)} -> 0 | AI7: {=IFERROR(INDEX(ejecuciones[Column1.presupuestoEjecutado],MATCH(1,(ejecuciones[Column1.codigoIndicador]=A7)*(ejecuciones[Column1.fechaDiligenciamiento]=_xlfn.MAXIFS(ejecuciones[Column1.fechaDiligenciamiento],ejecuciones[Column1.codigoIndicador],A7)),0)),0)} -> 0 | AJ7: =IFERROR(AI7/AG7,0) -> 0
A8: 7 | B8: SECRETARÍA DE PLANEACIÓN | C8: BOLIVAR ME ENAMORA CON INSTITUCIONALIDAD FUERTE; TRANSPARENCIA COMO BASE DE UNA BUENA GESTION | D8: BOLÍVAR ME ENAMORA EN PROPIEDAD LEGAL | E8: ESQUEMA ASOCIATIVO PARA LA GESTIÓN CATASTRAL | F8: 4599 | G8: FORTALECIMIENTO A LA GESTIÓN Y DIRECCIÓN DE LA ADMINISTRACIÓN PÚBLICA TERRITORIAL | H8: VIVIENDA | I8: 10 | J8: ESTUDIOS DE PREINVERSIÓN PARA IMPULSAR CATASTRO MULTIPROPOSITO | K8: 4599006 | L8: ESTUDIOS DE PREINVERSIÓN | M8: ESTUDIOS DE PREINVERSIÓN ELABORADOS | N8: NÚMERO | O8: 0 | P8: N/A | Q8: N/A | R8: 1 | S8: 1 | U8: =+T8/S8 -> 0 | W8: =+V8/S8 -> 0 | X8: {=IFERROR(INDEX(ejecuciones[Column1.ejecutado],MATCH(1,(ejecuciones[Column1.codigoIndicador]=A8)*(ejecuciones[periodo avance]="Marzo"),0)),0)} -> 1 | Y8: {=IFERROR(INDEX(ejecuciones[Column1.ejecutado],MATCH(1,(ejecuciones[Column1.codigoIndicador]=A8)*(ejecuciones[periodo avance]="Junio"),0)),0)} -> 1 | Z8: {=IFERROR(INDEX(ejecuciones[Column1.ejecutado],MATCH(1,(ejecuciones[Column1.codigoIndicador]=A8)*(ejecuciones[periodo avance]="Septiembre"),0)),0)} -> 0 | AA8: {=IFERROR(INDEX(ejecuciones[Column1.ejecutado],MATCH(1,(ejecuciones[Column1.codigoIndicador]=A8)*(ejecuciones[periodo avance]="Diciembre"),0)),0)} -> 0 | AB8: =+X8+Y8+Z8+AA8 -> 2 | AC8: =+AB8/S8 -> 2 | AD8: =V8+AB8 -> 2 | AE8: =+AB8/R8 -> 2 | AF8: =AD8/S8 -> 2 | AG8: {=IFERROR(INDEX(ejecuciones[Column1.presupuestoProyectado],MATCH(1,(ejecuciones[Column1.codigoIndicador]=A8)*(ejecuciones[Column1.fechaDiligenciamiento]=_xlfn.MAXIFS(ejecuciones[Column1.fechaDiligenciamiento],ejecuciones[Column1.codigoIndicador],A8)),0)),0)} -> 0 | AI8: {=IFERROR(INDEX(ejecuciones[Column1.presupuestoEjecutado],MATCH(1,(ejecuciones[Column1.codigoIndicador]=A8)*(ejecuciones[Column1.fechaDiligenciamiento]=_xlfn.MAXIFS(ejecuciones[Column1.fechaDiligenciamiento],ejecuciones[Column1.codigoIndicador],A8)),0)),0)} -> 0 | AJ8: =IFERROR(AI8/AG8,0) -> 0
A9: 8 | B9: SECRETARÍA DE AGRICULTURA Y DESARROLLO RURAL | C9: BOLIVAR ME ENAMORA CON CRECIMIENTO ECONOMICO Y OPORTUNIDAD DE EMPLEO PARA TODOS | D9: BOLÍVAR ME ENAMORA EN DESARROLLO AGROPECUARIO | E9: AGRICULTURA TECNIFICADA Y SOLIDARIA | F9: 1709 | G9: INFRAESTRUCTURA PRODUCTIVA Y COMERCIALIZACIÓN | H9: AGROPECUARIO | I9: 12 | J9: REHABILITAR, COMPLEMENTAR Y/O MODERNIZAR 1000 HECTÁREAS DE DISTRITOS CON ADECUACIÓN DE TIERRAS | K9: 1709100 | L9: DISTRITOS DE ADECUACIÓN DE TIERRAS REHABILITADOS, COMPLEMENTADOS Y MODERNIZADOS | M9: HECTÁREAS CON DISTRITOS DE ADECUACIÓN DE TIERRAS REHABILITADOS, COMPLEMENTADOS Y MODERNIZADOS | N9: HECTÁREA | O9: 6900 | P9: 2023 | Q9: SADR | R9: 500 | S9: 7900 | U9: =+T9/S9 -> 0 | W9: =+V9/S9 -> 0 | X9: {=IFERROR(INDEX(ejecuciones[Column1.ejecutado],MATCH(1,(ejecuciones[Column1.codigoIndicador]=A9)*(ejecuciones[periodo avance]="Marzo"),0)),0)} -> 0 | Y9: {=IFERROR(INDEX(ejecuciones[Column1.ejecutado],MATCH(1,(ejecuciones[Column1.codigoIndicador]=A9)*(ejecuciones[periodo avance]="Junio"),0)),0)} -> 0 | Z9: {=IFERROR(INDEX(ejecuciones[Column1.ejecutado],MATCH(1,(ejecuciones[Column1.codigoIndicador]=A9)*(ejecuciones[periodo avance]="Septiembre"),0)),0)} -> 0 | AA9: {=IFERROR(INDEX(ejecuciones[Column1.ejecutado],MATCH(1,(ejecuciones[Column1.codigoIndicador]=A9)*(ejecuciones[periodo avance]="Diciembre"),0)),0)} -> 0 | AB9: =+X9+Y9+Z9+AA9 -> 0 | AC9: =+AB9/S9 -> 0 | AD9: =V9+AB9 -> 0 | AE9: =+AB9/R9 -> 0 | AF9: =AD9/S9 -> 0 | AG9: {=IFERROR(INDEX(ejecuciones[Column1.presupuestoProyectado],MATCH(1,(ejecuciones[Column1.codigoIndicador]=A9)*(ejecuciones[Column1.fechaDiligenciamiento]=_xlfn.MAXIFS(ejecuciones[Column1.fechaDiligenciamiento],ejecuciones[Column1.codigoIndicador],A9)),0)),0)} -> 0 | AI9: {=IFERROR(INDEX(ejecuciones[Column1.presupuestoEjecutado],MATCH(1,(ejecuciones[Column1.codigoIndicador]=A9)*(ejecuciones[Column1.fechaDiligenciamiento]=_xlfn.MAXIFS(ejecuciones[Column1.fechaDiligenciamiento],ejecuciones[Column1.codigoIndicador],A9)),0)),0)} -> 0 | AJ9: =IFERROR(AI9/AG9,0) -> 0
A10: 9 | B10: SECRETARÍA DE AGRICULTURA Y DESARROLLO RURAL | C10: BOLIVAR ME ENAMORA CON CRECIMIENTO ECONOMICO Y OPORTUNIDAD DE EMPLEO PARA TODOS | D10: BOLÍVAR ME ENAMORA EN DESARROLLO AGROPECUARIO | E10: AGRICULTURA TECNIFICADA Y SOLIDARIA | F10: 1702 | G10: INCLUSIÓN PRODUCTIVA DE PEQUEÑOS PRODUCTORES RURALES | H10: AGROPECUARIO | I10: 13 | J10: ENTREGAR 5 MAQUINARIA Y/O EQUIPOS | K10: 1702014 | L10: SERVICIO DE APOYO PARA EL ACCESO A MAQUINARIA Y EQUIPOS | M10: MAQUINARIA Y EQUIPOS ENTREGADOS | N10: NÚMERO | O10: N/D | P10: N/D | Q10: N/D | R10: 2 | S10: 5 | U10: =+T10/S10 -> 0 | W10: =+V10/S10 -> 0 | X10: {=IFERROR(INDEX(ejecuciones[Column1.ejecutado],MATCH(1,(ejecuciones[Column1.codigoIndicador]=A10)*(ejecuciones[periodo avance]="Marzo"),0)),0)} -> 26 | Y10: {=IFERROR(INDEX(ejecuciones[Column1.ejecutado],MATCH(1,(ejecuciones[Column1.codigoIndicador]=A10)*(ejecuciones[periodo avance]="Junio"),0)),0)} -> 0 | Z10: {=IFERROR(INDEX(ejecuciones[Column1.ejecutado],MATCH(1,(ejecuciones[Column1.codigoIndicador]=A10)*(ejecuciones[periodo avance]="Septiembre"),0)),0)} -> 0 | AA10: {=IFERROR(INDEX(ejecuciones[Column1.ejecutado],MATCH(1,(ejecuciones[Column1.codigoIndicador]=A10)*(ejecuciones[periodo avance]="Diciembre"),0)),0)} -> 0 | AB10: =+X10+Y10+Z10+AA10 -> 26 | AC10: =+AB10/S10 -> 5.2 | AD10: =V10+AB10 -> 26 | AE10: =+AB10/R10 -> 13 | AF10: =AD10/S10 -> 5.2 | AG10: {=IFERROR(INDEX(ejecuciones[Column1.presupuestoProyectado],MATCH(1,(ejecuciones[Column1.codigoIndicador]=A10)*(ejecuciones[Column1.fechaDiligenciamiento]=_xlfn.MAXIFS(ejecuciones[Column1.fechaDiligenciamiento],ejecuciones[Column1.codigoIndicador],A10)),0)),0)} -> 300000000 | AI10: {=IFERROR(INDEX(ejecuciones[Column1.presupuestoEjecutado],MATCH(1,(ejecuciones[Column1.codigoIndicador]=A10)*(ejecuciones[Column1.fechaDiligenciamiento]=_xlfn.MAXIFS(ejecuciones[Column1.fechaDiligenciamiento],ejecuciones[Column1.codigoIndicador],A10)),0)),0)} -> 0 | AJ10: =IFERROR(AI10/AG10,0) -> 0
A11: 10 | B11: SECRETARÍA DE AGRICULTURA Y DESARROLLO RURAL | C11: BOLIVAR ME ENAMORA CON CRECIMIENTO ECONOMICO Y OPORTUNIDAD DE EMPLEO PARA TODOS | D11: BOLÍVAR ME ENAMORA EN DESARROLLO AGROPECUARIO | E11: AGRICULTURA TECNIFICADA Y SOLIDARIA | F11: 1702 | G11: INCLUSIÓN PRODUCTIVA DE PEQUEÑOS PRODUCTORES RURALES | H11: AGROPECUARIO | I11: 14 | J11: APOYAR 20 ASOCIACIONES DE PEQUEÑOS PRODUCTORES PARA EL FOMENTO DE LA ASOCIATIVIDAD | K11: 1702016 | L11: SERVICIO DE APOYO PARA EL FOMENTO DE LA ASOCIATIVIDAD | M11: ASOCIACIONES APOYADAS | N11: NÚMERO | O11: 1 | P11: 2023 | Q11: SADR | R11: 7 | S11: 21 | U11: =+T11/S11 -> 0 | W11: =+V11/S11 -> 0 | X11: {=IFERROR(INDEX(ejecuciones[Column1.ejecutado],MATCH(1,(ejecuciones[Column1.codigoIndicador]=A11)*(ejecuciones[periodo avance]="Marzo"),0)),0)} -> 0 | Y11: {=IFERROR(INDEX(ejecuciones[Column1.ejecutado],MATCH(1,(ejecuciones[Column1.codigoIndicador]=A11)*(ejecuciones[periodo avance]="Junio"),0)),0)} -> 0 | Z11: {=IFERROR(INDEX(ejecuciones[Column1.ejecutado],MATCH(1,(ejecuciones[Column1.codigoIndicador]=A11)*(ejecuciones[periodo avance]="Septiembre"),0)),0)} -> 0 | AA11: {=IFERROR(INDEX(ejecuciones[Column1.ejecutado],MATCH(1,(ejecuciones[Column1.codigoIndicador]=A11)*(ejecuciones[periodo avance]="Diciembre"),0)),0)} -> 0 | AB11: =+X11+Y11+Z11+AA11 -> 0 | AC11: =+AB11/S11 -> 0 | AD11: =V11+AB11 -> 0 | AE11: =+AB11/R11 -> 0 | AF11: =AD11/S11 -> 0 | AG11: {=IFERROR(INDEX(ejecuciones[Column1.presupuestoProyectado],MATCH(1,(ejecuciones[Column1.codigoIndicador]=A11)*(ejecuciones[Column1.fechaDiligenciamiento]=_xlfn.MAXIFS(ejecuciones[Column1.fechaDiligenciamiento],ejecuciones[Column1.codigoIndicador],A11)),0)),0)} -> 0 | AI11: {=IFERROR(INDEX(ejecuciones[Column1.presupuestoEjecutado],MATCH(1,(ejecuciones[Column1.codigoIndicador]=A11)*(ejecuciones[Column1.fechaDiligenciamiento]=_xlfn.MAXIFS(ejecuciones[Column1.fechaDiligenciamiento],ejecuciones[Column1.codigoIndicador],A11)),0)),0)} -> 0 | AJ11: =IFERROR(AI11/AG11,0) -> 0
A12: 11 | B12: SECRETARÍA DE AGRICULTURA Y DESARROLLO RURAL | C12: BOLIVAR ME ENAMORA CON CRECIMIENTO ECONOMICO Y OPORTUNIDAD DE EMPLEO PARA TODOS | D12: BOLÍVAR ME ENAMORA EN DESARROLLO AGROPECUARIO | E12: EXTENSIÓN AGROPECUARIA | F12: 1708 | G12: CIENCIA, TECNOLOGÍA E INNOVACIÓN AGROPECUARIA | H12: AGROPECUARIO | I12: 16 | J12: FORTALECER LAS CAPACIDADES TÉCNICAS, PRODUCTIVAS Y TECNOLÓGICAS DE 4.000 PRODUCTORES MEDIANTE EXTENSIÓN AGROPECUARIA | K12: 1708041 | L12: SERVICIO DE EXTENSIÓN AGROPECUARIA | M12: PRODUCTORES ATENDIDOS CON SERVICIO DE EXTENSIÓN AGROPECUARIA | N12: NÚMERO | O12: 11565 | P12: 2023 | Q12: ADR, SADR | R12: 1000 | S12: 15565 | U12: =+T12/S12 -> 0 | W12: =+V12/S12 -> 0 | X12: {=IFERROR(INDEX(ejecuciones[Column1.ejecutado],MATCH(1,(ejecuciones[Column1.codigoIndicador]=A12)*(ejecuciones[periodo avance]="Marzo"),0)),0)} -> 0 | Y12: {=IFERROR(INDEX(ejecuciones[Column1.ejecutado],MATCH(1,(ejecuciones[Column1.codigoIndicador]=A12)*(ejecuciones[periodo avance]="Junio"),0)),0)} -> 0 | Z12: {=IFERROR(INDEX(ejecuciones[Column1.ejecutado],MATCH(1,(ejecuciones[Column1.codigoIndicador]=A12)*(ejecuciones[periodo avance]="Septiembre"),0)),0)} -> 0 | AA12: {=IFERROR(INDEX(ejecuciones[Column1.ejecutado],MATCH(1,(ejecuciones[Column1.codigoIndicador]=A12)*(ejecuciones[periodo avance]="Diciembre"),0)),0)} -> 0 | AB12: =+X12+Y12+Z12+AA12 -> 0 | AC12: =+AB12/S12 -> 0 | AD12: =V12+AB12 -> 0 | AE12: =+AB12/R12 -> 0 | AF12: =AD12/S12 -> 0 | AG12: {=IFERROR(INDEX(ejecuciones[Column1.presupuestoProyectado],MATCH(1,(ejecuciones[Column1.codigoIndicador]=A12)*(ejecuciones[Column1.fechaDiligenciamiento]=_xlfn.MAXIFS(ejecuciones[Column1.fechaDiligenciamiento],ejecuciones[Column1.codigoIndicador],A12)),0)),0)} -> 0 | AI12: {=IFERROR(INDEX(ejecuciones[Column1.presupuestoEjecutado],MATCH(1,(ejecuciones[Column1.codigoIndicador]=A12)*(ejecuciones[Column1.fechaDiligenciamiento]=_xlfn.MAXIFS(ejecuciones[Column1.fechaDiligenciamiento],ejecuciones[Column1.codigoIndicador],A12)),0)),0)} -> 0 | AJ12: =IFERROR(AI12/AG12,0) -> 0
A13: 12 | B13: SECRETARÍA DE AGRICULTURA Y DESARROLLO RURAL | C13: BOLIVAR ME ENAMORA CON CRECIMIENTO ECONOMICO Y OPORTUNIDAD DE EMPLEO PARA TODOS | D13: BOLÍVAR ME ENAMORA EN DESARROLLO AGROPECUARIO | E13: PRODUCTIVIDAD, COMPETITIVIDAD Y COMERCIALIZACIÓN | F13: 1702 | G13: INCLUSIÓN PRODUCTIVA DE PEQUEÑOS PRODUCTORES RURALES | H13: AGROPECUARIO | I13: 17 | J13: COFINANCIAR 20 PROYECTOS PRODUCTIVOS | K13: 1702007 | L13: SERVICIO DE APOYO FINANCIERO PARA PROYECTOS PRODUCTIVOS | M13: PROYECTOS PRODUCTIVOS COFINANCIADOS | N13: NÚMERO | O13: 30 | P13: 2023 | Q13: SADR | R13: 7 | S13: 50 | U13: =+T13/S13 -> 0 | W13: =+V13/S13 -> 0 | X13: {=IFERROR(INDEX(ejecuciones[Column1.ejecutado],MATCH(1,(ejecuciones[Column1.codigoIndicador]=A13)*(ejecuciones[periodo avance]="Marzo"),0)),0)} -> 0 | Y13: {=IFERROR(INDEX(ejecuciones[Column1.ejecutado],MATCH(1,(ejecuciones[Column1.codigoIndicador]=A13)*(ejecuciones[periodo avance]="Junio"),0)),0)} -> 0 | Z13: {=IFERROR(INDEX(ejecuciones[Column1.ejecutado],MATCH(1,(ejecuciones[Column1.codigoIndicador]=A13)*(ejecuciones[periodo avance]="Septiembre"),0)),0)} -> 0 | AA13: {=IFERROR(INDEX(ejecuciones[Column1.ejecutado],MATCH(1,(ejecuciones[Column1.codigoIndicador]=A13)*(ejecuciones[periodo avance]="Diciembre"),0)),0)} -> 0 | AB13: =+X13+Y13+Z13+AA13 -> 0 | AC13: =+AB13/S13 -> 0 | AD13: =V13+AB13 -> 0 | AE13: =+AB13/R13 -> 0 | AF13: =AD13/S13 -> 0 | AG13: {=IFERROR(INDEX(ejecuciones[Column1.presupuestoProyectado],MATCH(1,(ejecuciones[Column1.codigoIndicador]=A13)*(ejecuciones[Column1.fechaDiligenciamiento]=_xlfn.MAXIFS(ejecuciones[Column1.fechaDiligenciamiento],ejecuciones[Column1.codigoIndicador],A13)),0)),0)} -> 0 | AI13: {=IFERROR(INDEX(ejecuciones[Column1.presupuestoEjecutado],MATCH(1,(ejecuciones[Column1.codigoIndicador]=A13)*(ejecuciones[Column1.fechaDiligenciamiento]=_xlfn.MAXIFS(ejecuciones[Column1.fechaDiligenciamiento],ejecuciones[Column1.codigoIndicador],A13)),0)),0)} -> 0 | AJ13: =IFERROR(AI13/AG13,0) -> 0
A14: 13 | B14: SECRETARÍA DE AGRICULTURA Y DESARROLLO RURAL | C14: BOLIVAR ME ENAMORA CON CRECIMIENTO ECONOMICO Y OPORTUNIDAD DE EMPLEO PARA TODOS | D14: BOLÍVAR ME ENAMORA EN DESARROLLO AGROPECUARIO | E14: PRODUCTIVIDAD, COMPETITIVIDAD Y COMERCIALIZACIÓN | F14: 1702 | G14: INCLUSIÓN PRODUCTIVA DE PEQUEÑOS PRODUCTORES RURALES | H14: AGROPECUARIO | I14: 18 | J14: REALIZAR 15 MERCADOS CAMPESINOS EN EL DEPARTAMENTO DE BOLÍVAR | K14: 1702038 | L14: SERVICIO DE APOYO A LA COMERCIALIZACIÓN | M14: MERCADOS CAMPESINOS REALIZADOS | N14: NÚMERO | O14: 10 | P14: 2023 | Q14: SADR | R14: 5 | S14: 25 | U14: =+T14/S14 -> 0 | W14: =+V14/S14 -> 0 | X14: {=IFERROR(INDEX(ejecuciones[Column1.ejecutado],MATCH(1,(ejecuciones[Column1.codigoIndicador]=A14)*(ejecuciones[periodo avance]="Marzo"),0)),0)} -> 1 | Y14: {=IFERROR(INDEX(ejecuciones[Column1.ejecutado],MATCH(1,(ejecuciones[Column1.codigoIndicador]=A14)*(ejecuciones[periodo avance]="Junio"),0)),0)} -> 0 | Z14: {=IFERROR(INDEX(ejecuciones[Column1.ejecutado],MATCH(1,(ejecuciones[Column1.codigoIndicador]=A14)*(ejecuciones[periodo avance]="Septiembre"),0)),0)} -> 0 | AA14: {=IFERROR(INDEX(ejecuciones[Column1.ejecutado],MATCH(1,(ejecuciones[Column1.codigoIndicador]=A14)*(ejecuciones[periodo avance]="Diciembre"),0)),0)} -> 0 | AB14: =+X14+Y14+Z14+AA14 -> 1 | AC14: =+AB14/S14 -> 0.04 | AD14: =V14+AB14 -> 1 | AE14: =+AB14/R14 -> 0.2 | AF14: =AD14/S14 -> 0.04 | AG14: {=IFERROR(INDEX(ejecuciones[Column1.presupuestoProyectado],MATCH(1,(ejecuciones[Column1.codigoIndicador]=A14)*(ejecuciones[Column1.fechaDiligenciamiento]=_xlfn.MAXIFS(ejecuciones[Column1.fechaDiligenciamiento],ejecuciones[Column1.codigoIndicador],A14)),0)),0)} -> 0 | AI14: {=IFERROR(INDEX(ejecuciones[Column1.presupuestoEjecutado],MATCH(1,(ejecuciones[Column1.codigoIndicador]=A14)*(ejecuciones[Column1.fechaDiligenciamiento]=_xlfn.MAXIFS(ejecuciones[Column1.fechaDiligenciamiento],ejecuciones[Column1.codigoIndicador],A14)),0)),0)} -> 0 | AJ14: =IFERROR(AI14/AG14,0) -> 0
A15: 14 | B15: SECRETARÍA DE AGRICULTURA Y DESARROLLO RURAL | C15: BOLIVAR ME ENAMORA CON CRECIMIENTO ECONOMICO Y OPORTUNIDAD DE EMPLEO PARA TODOS | D15: BOLÍVAR ME ENAMORA EN DESARROLLO AGROPECUARIO | E15: PRODUCTIVIDAD, COMPETITIVIDAD Y COMERCIALIZACIÓN | F15: 1702 | G15: INCLUSIÓN PRODUCTIVA DE PEQUEÑOS PRODUCTORES RURALES | H15: AGROPECUARIO | I15: 19 | J15: REALIZAR RUEDAS DE NEGOCIOS | K15: 1702038 | L15: SERVICIO DE APOYO A LA COMERCIALIZACIÓN | M15: RUEDAS DE NEGOCIOS REALIZADAS | N15: NÚMERO | O15: 4 | P15: 2023 | Q15: SADR | R15: 2 | S15: 11 | U15: =+T15/S15 -> 0 | W15: =+V15/S15 -> 0 | X15: {=IFERROR(INDEX(ejecuciones[Column1.ejecutado],MATCH(1,(ejecuciones[Column1.codigoIndicador]=A15)*(ejecuciones[periodo avance]="Marzo"),0)),0)} -> 1 | Y15: {=IFERROR(INDEX(ejecuciones[Column1.ejecutado],MATCH(1,(ejecuciones[Column1.codigoIndicador]=A15)*(ejecuciones[periodo avance]="Junio"),0)),0)} -> 0 | Z15: {=IFERROR(INDEX(ejecuciones[Column1.ejecutado],MATCH(1,(ejecuciones[Column1.codigoIndicador]=A15)*(ejecuciones[periodo avance]="Septiembre"),0)),0)} -> 0 | AA15: {=IFERROR(INDEX(ejecuciones[Column1.ejecutado],MATCH(1,(ejecuciones[Column1.codigoIndicador]=A15)*(ejecuciones[periodo avance]="Diciembre"),0)),0)} -> 0 | AB15: =+X15+Y15+Z15+AA15 -> 1 | AC15: =+AB15/S15 -> 0.090909091 | AD15: =V15+AB15 -> 1 | AE15: =+AB15/R15 -> 0.5 | AF15: =AD15/S15 -> 0.090909091 | AG15: {=IFERROR(INDEX(ejecuciones[Column1.presupuestoProyectado],MATCH(1,(ejecuciones[Column1.codigoIndicador]=A15)*(ejecuciones[Column1.fechaDiligenciamiento]=_xlfn.MAXIFS(ejecuciones[Column1.fechaDiligenciamiento],ejecuciones[Column1.codigoIndicador],A15)),0)),0)} -> 0 | AI15: {=IFERROR(INDEX(ejecuciones[Column1.presupuestoEjecutado],MATCH(1,(ejecuciones[Column1.codigoIndicador]=A15)*(ejecuciones[Column1.fechaDiligenciamiento]=_xlfn.MAXIFS(ejecuciones[Column1.fechaDiligenciamiento],ejecuciones[Column1.codigoIndicador],A15)),0)),0)} -> 0 | AJ15: =IFERROR(AI15/AG15,0) -> 0
A16: 15 | B16: SECRETARÍA DE AGRICULTURA Y DESARROLLO RURAL | C16: BOLIVAR ME ENAMORA CON CRECIMIENTO ECONOMICO Y OPORTUNIDAD DE EMPLEO PARA TODOS | D16: BOLÍVAR ME ENAMORA EN DESARROLLO AGROPECUARIO | E16: PRODUCTIVIDAD, COMPETITIVIDAD Y COMERCIALIZACIÓN | F16: 1709 | G16: INFRAESTRUCTURA PRODUCTIVA Y COMERCIALIZACIÓN | H16: AGROPECUARIO | I16: 20 | J16: SEMBRAR 5.000.000 DE ALEVINOS EN CUERPOS DE AGUA DEL DEPARTAMENTO DE BOLÍVAR | K16: 1709001 | L16: ALEVINOS | M16: ALEVINOS UTILIZADOS EN ACTIVIDADES DE REPOBLAMIENTO | N16: NÚMERO | O16: 4000000 | P16: 2023 | Q16: ESTACIÓN BAJO MAGDALENA AUNAP, SADR | R16: 1500000 | S16: 9000000 | U16: =+T16/S16 -> 0 | W16: =+V16/S16 -> 0 | X16: {=IFERROR(INDEX(ejecuciones[Column1.ejecutado],MATCH(1,(ejecuciones[Column1.codigoIndicador]=A16)*(ejecuciones[periodo avance]="Marzo"),0)),0)} -> 4489500 | Y16: {=IFERROR(INDEX(ejecuciones[Column1.ejecutado],MATCH(1,(ejecuciones[Column1.codigoIndicador]=A16)*(ejecuciones[periodo avance]="Junio"),0)),0)} -> 0 | Z16: {=IFERROR(INDEX(ejecuciones[Column1.ejecutado],MATCH(1,(ejecuciones[Column1.codigoIndicador]=A16)*(ejecuciones[periodo avance]="Septiembre"),0)),0)} -> 0 | AA16: {=IFERROR(INDEX(ejecuciones[Column1.ejecutado],MATCH(1,(ejecuciones[Column1.codigoIndicador]=A16)*(ejecuciones[periodo avance]="Diciembre"),0)),0)} -> 0 | AB16: =+X16+Y16+Z16+AA16 -> 4489500 | AC16: =+AB16/S16 -> 0.49883333 | AD16: =V16+AB16 -> 4489500 | AE16: =+AB16/R16 -> 2.993 | AF16: =AD16/S16 -> 0.49883333 | AG16: {=IFERROR(INDEX(ejecuciones[Column1.presupuestoProyectado],MATCH(1,(ejecuciones[Column1.codigoIndicador]=A16)*(ejecuciones[Column1.fechaDiligenciamiento]=_xlfn.MAXIFS(ejecuciones[Column1.fechaDiligenciamiento],ejecuciones[Column1.codigoIndicador],A16)),0)),0)} -> 3500000 | AI16: {=IFERROR(INDEX(ejecuciones[Column1.presupuestoEjecutado],MATCH(1,(ejecuciones[Column1.codigoIndicador]=A16)*(ejecuciones[Column1.fechaDiligenciamiento]=_xlfn.MAXIFS(ejecuciones[Column1.fechaDiligenciamiento],ejecuciones[Column1.codigoIndicador],A16)),0)),0)} -> 0 | AJ16: =IFERROR(AI16/AG16,0) -> 0
A17: 16 | B17: SECRETARÍA GENERAL | C17: BOLIVAR ME ENAMORA CON INSTITUCIONALIDAD FUERTE; TRANSPARENCIA COMO BASE DE UNA BUENA GESTION | D17: BOLÍVAR ME ENAMORA EN TRANSPARENCIA, ÉTICA PÚBLICA, EFICIENCIA Y PLANEACIÓN INSTITUCIONAL. | E17: TRANSPARENCIA INSTITUCIONAL | F17: 4599 | G17: FORTALECIMIENTO A LA GESTIÓN Y DIRECCIÓN DE LA ADMINISTRACIÓN PÚBLICA TERRITORIAL | H17: FORTALECIMIENTO INSTITUCIONAL | I17: 22 | J17: REALIZAR 2 JORNADAS ANUALES PARA LA EXPEDICIÓN DE PASAPORTES | K17: 4599029 | L17: SERVICIO DE INTEGRACIÓN DE LA OFERTA PÚBLICA | M17: ESPACIOS DE INTEGRACIÓN DE OFERTA PÚBLICA GENERADOS | N17: NÚMERO | O17: 0 | P17: N/A | Q17: N/A | R17: 2 | S17: 8 | U17: =+T17/S17 -> 0 | W17: =+V17/S17 -> 0 | X17: {=IFERROR(INDEX(ejecuciones[Column1.ejecutado],MATCH(1,(ejecuciones[Column1.codigoIndicador]=A17)*(ejecuciones[periodo avance]="Marzo"),0)),0)} -> 0 | Y17: {=IFERROR(INDEX(ejecuciones[Column1.ejecutado],MATCH(1,(ejecuciones[Column1.codigoIndicador]=A17)*(ejecuciones[periodo avance]="Junio"),0)),0)} -> 4 | Z17: {=IFERROR(INDEX(ejecuciones[Column1.ejecutado],MATCH(1,(ejecuciones[Column1.codigoIndicador]=A17)*(ejecuciones[periodo avance]="Septiembre"),0)),0)} -> 0 | AA17: {=IFERROR(INDEX(ejecuciones[Column1.ejecutado],MATCH(1,(ejecuciones[Column1.codigoIndicador]=A17)*(ejecuciones[periodo avance]="Diciembre"),0)),0)} -> 0 | AB17: =+X17+Y17+Z17+AA17 -> 4 | AC17: =+AB17/S17 -> 0.5 | AD17: =V17+AB17 -> 4 | AE17: =+AB17/R17 -> 2 | AF17: =AD17/S17 -> 0.5 | AG17: {=IFERROR(INDEX(ejecuciones[Column1.presupuestoProyectado],MATCH(1,(ejecuciones[Column1.codigoIndicador]=A17)*(ejecuciones[Column1.fechaDiligenciamiento]=_xlfn.MAXIFS(ejecuciones[Column1.fechaDiligenciamiento],ejecuciones[Column1.codigoIndicador],A17)),0)),0)} -> 0 | AI17: {=IFERROR(INDEX(ejecuciones[Column1.presupuestoEjecutado],MATCH(1,(ejecuciones[Column1.codigoIndicador]=A17)*(ejecuciones[Column1.fechaDiligenciamiento]=_xlfn.MAXIFS(ejecuciones[Column1.fechaDiligenciamiento],ejecuciones[Column1.codigoIndicador],A17)),0)),0)} -> 0 | AJ17: =IFERROR(AI17/AG17,0) -> 0
A18: 17 | B18: SECRETARÍA GENERAL | C18: BOLIVAR ME ENAMORA CON INSTITUCIONALIDAD FUERTE; TRANSPARENCIA COMO BASE DE UNA BUENA GESTION | D18: BOLÍVAR ME ENAMORA EN TRANSPARENCIA, ÉTICA PÚBLICA, EFICIENCIA Y PLANEACIÓN INSTITUCIONAL. | E18: FORTALECIMIENTO DE CAPACIDADES INSTITUCIONALES | F18: 4599 | G18: FORTALECIMIENTO A LA GESTIÓN Y DIRECCIÓN DE LA ADMINISTRACIÓN PÚBLICA TERRITORIAL | H18: FORTALECIMIENTO INSTITUCIONAL | I18: 24 | J18: 5 PLANES DE MANTENIMIENTO INTEGRAL, 1 POR SEDE POR AÑO, SEDES: CAD, PROCLAMACIÓN, MODENA, MAGANGUE, EL CARMEN | K18: 4599016 | L18: SEDES MANTENIDAS | M18: SEDES MANTENIDAS | N18: SEDES | O18: 3 | P18: 2023 | Q18: Secretaria General - Dirección Administrativa Logistica - DAL | R18: 5 | S18: 5 | U18: =+T18/S18 -> 0 | W18: =+V18/S18 -> 0 | X18: {=IFERROR(INDEX(ejecuciones[Column1.ejecutado],MATCH(1,(ejecuciones[Column1.codigoIndicador]=A18)*(ejecuciones[periodo avance]="Marzo"),0)),0)} -> 0.25 | Y18: {=IFERROR(INDEX(ejecuciones[Column1.ejecutado],MATCH(1,(ejecuciones[Column1.codigoIndicador]=A18)*(ejecuciones[periodo avance]="Junio"),0)),0)} -> 0.25 | Z18: {=IFERROR(INDEX(ejecuciones[Column1.ejecutado],MATCH(1,(ejecuciones[Column1.codigoIndicador]=A18)*(ejecuciones[periodo avance]="Septiembre"),0)),0)} -> 0 | AA18: {=IFERROR(INDEX(ejecuciones[Column1.ejecutado],MATCH(1,(ejecuciones[Column1.codigoIndicador]=A18)*(ejecuciones[periodo avance]="Diciembre"),0)),0)} -> 0 | AB18: =+X18+Y18+Z18+AA18 -> 0.5 | AC18: =+AB18/S18 -> 0.1 | AD18: =V18+AB18 -> 0.5 | AE18: =+AB18/R18 -> 0.1 | AF18: =AD18/S18 -> 0.1 | AG18: {=IFERROR(INDEX(ejecuciones[Column1.presupuestoProyectado],MATCH(1,(ejecuciones[Column1.codigoIndicador]=A18)*(ejecuciones[Column1.fechaDiligenciamiento]=_xlfn.MAXIFS(ejecuciones[Column1.fechaDiligenciamiento],ejecuciones[Column1.codigoIndicador],A18)),0)),0)} -> 2237493000 | AI18: {=IFERROR(INDEX(ejecuciones[Column1.presupuestoEjecutado],MATCH(1,(ejecuciones[Column1.codigoIndicador]=A18)*(ejecuciones[Column1.fechaDiligenciamiento]=_xlfn.MAXIFS(ejecuciones[Column1.fechaDiligenciamiento],ejecuciones[Column1.codigoIndicador],A18)),0)),0)} -> 1842377560 | AJ18: =IFERROR(AI18/AG18,0) -> 0.82341154
A19: 18 | B19: SECRETARÍA GENERAL | C19: BOLIVAR ME ENAMORA CON INSTITUCIONALIDAD FUERTE; TRANSPARENCIA COMO BASE DE UNA BUENA GESTION | D19: BOLÍVAR ME ENAMORA EN TRANSPARENCIA, ÉTICA PÚBLICA, EFICIENCIA Y PLANEACIÓN INSTITUCIONAL. | E19: FORTALECIMIENTO DE CAPACIDADES INSTITUCIONALES | F19: 4599 | G19: GRUPO SOCIAL Y EMPRESARIAL DE LA DEFENSA (GSED) COMPETITIVO | H19: FORTALECIMIENTO INSTITUCIONAL | I19: 29 | J19: REALIZAR INTERVENCIÓN PARA RESTAURAR LOS BIENES DE INTERES CULTURAL - BIC EN PROPIEDAD DE LA GOBERNACIÓN, CASA DE LA ASAMBLEA, CASA DEL CONSULADO, COLEGIO COPPERATIVO, TEATRO MOMPOX. | K19: 4599013 | L19: SEDES RESTAURADAS | M19: SEDES RESTAURADAS | N19: SEDES | O19: 0 | P19: 2023 | Q19: Secretaria General - Dirección Administrativa Logistica - DAL | R19: 1 | S19: 4 | U19: =+T19/S19 -> 0 | W19: =+V19/S19 -> 0 | X19: {=IFERROR(INDEX(ejecuciones[Column1.ejecutado],MATCH(1,(ejecuciones[Column1.codigoIndicador]=A19)*(ejecuciones[periodo avance]="Marzo"),0)),0)} -> 0.25 | Y19: {=IFERROR(INDEX(ejecuciones[Column1.ejecutado],MATCH(1,(ejecuciones[Column1.codigoIndicador]=A19)*(ejecuciones[periodo avance]="Junio"),0)),0)} -> 0.25 | Z19: {=IFERROR(INDEX(ejecuciones[Column1.ejecutado],MATCH(1,(ejecuciones[Column1.codigoIndicador]=A19)*(ejecuciones[periodo avance]="Septiembre"),0)),0)} -> 0 | AA19: {=IFERROR(INDEX(ejecuciones[Column1.ejecutado],MATCH(1,(ejecuciones[Column1.codigoIndicador]=A19)*(ejecuciones[periodo avance]="Diciembre"),0)),0)} -> 0 | AB19: =+X19+Y19+Z19+AA19 -> 0.5 | AC19: =+AB19/S19 -> 0.125 | AD19: =V19+AB19 -> 0.5 | AE19: =+AB19/R19 -> 0.5 | AF19: =AD19/S19 -> 0.125 | AG19: {=IFERROR(INDEX(ejecuciones[Column1.presupuestoProyectado],MATCH(1,(ejecuciones[Column1.codigoIndicador]=A19)*(ejecuciones[Column1.fechaDiligenciamiento]=_xlfn.MAXIFS(ejecuciones[Column1.fechaDiligenciamiento],ejecuciones[Column1.codigoIndicador],A19)),0)),0)} -> 3500000000 | AI19: {=IFERROR(INDEX(ejecuciones[Column1.presupuestoEjecutado],MATCH(1,(ejecuciones[Column1.codigoIndicador]=A19)*(ejecuciones[Column1.fechaDiligenciamiento]=_xlfn.MAXIFS(ejecuciones[Column1.fechaDiligenciamiento],ejecuciones[Column1.codigoIndicador],A19)),0)),0)} -> 2900000000 | AJ19: =IFERROR(AI19/AG19,0) -> 0.82857143
A20: 19 | B20: SECRETARÍA GENERAL | C20: BOLIVAR ME ENAMORA CON INSTITUCIONALIDAD FUERTE; TRANSPARENCIA COMO BASE DE UNA BUENA GESTION | D20: BOLÍVAR ME ENAMORA EN TRANSPARENCIA, ÉTICA PÚBLICA, EFICIENCIA Y PLANEACIÓN INSTITUCIONAL. | E20: EFICIENCIA INSTITUCIONAL | F20: 4599 | G20: FORTALECIMIENTO A LA GESTIÓN Y DIRECCIÓN DE LA ADMINISTRACIÓN PÚBLICA TERRITORIAL | H20: FORTALECIMIENTO INSTITUCIONAL | I20: 30 | J20: REALIZAR CONVOCATORIA PARA ENTREGAR BECAS PARA MAESTRIAS Y DOCTORADOS A LOS EMPLEADOS DE CARRERA ADMINISTRATIVA DE LA GOBERNACIÓN DE BOLÍVAR | K20: 2202063 | L20: SERVICIO DE APOYO FINANCIERO PARA EL ACCESO A LA EDUCACIÓN SUPERIOR | M20: BENEFICIARIOS DE ESTRATEGIAS O PROGRAMAS DE APOYO FINANCIERO PARA EL ACCESO A LA EDUCACIÓN DE ALTO NIVEL | N20: NÚMERO | O20: 0 | P20: N/A | Q20: Gobernación de Bolívar | R20: 50 | S20: 120 | U20: =+T20/S20 -> 0 | W20: =+V20/S20 -> 0 | X20: {=IFERROR(INDEX(ejecuciones[Column1.ejecutado],MATCH(1,(ejecuciones[Column1.codigoIndicador]=A20)*(ejecuciones[periodo avance]="Marzo"),0)),0)} -> 0 | Y20: {=IFERROR(INDEX(ejecuciones[Column1.ejecutado],MATCH(1,(ejecuciones[Column1.codigoIndicador]=A20)*(ejecuciones[periodo avance]="Junio"),0)),0)} -> 0 | Z20: {=IFERROR(INDEX(ejecuciones[Column1.ejecutado],MATCH(1,(ejecuciones[Column1.codigoIndicador]=A20)*(ejecuciones[periodo avance]="Septiembre"),0)),0)} -> 0 | AA20: {=IFERROR(INDEX(ejecuciones[Column1.ejecutado],MATCH(1,(ejecuciones[Column1.codigoIndicador]=A20)*(ejecuciones[periodo avance]="Diciembre"),0)),0)} -> 0 | AB20: =+X20+Y20+Z20+AA20 -> 0 | AC20: =+AB20/S20 -> 0 | AD20: =V20+AB20 -> 0 | AE20: =+AB20/R20 -> 0 | AF20: =AD20/S20 -> 0 | AG20: {=IFERROR(INDEX(ejecuciones[Column1.presupuestoProyectado],MATCH(1,(ejecuciones[Column1.codigoIndicador]=A20)*(ejecuciones[Column1.fechaDiligenciamiento]=_xlfn.MAXIFS(ejecuciones[Column1.fechaDiligenciamiento],ejecuciones[Column1.codigoIndicador],A20)),0)),0)} -> 0 | AI20: {=IFERROR(INDEX(ejecuciones[Column1.presupuestoEjecutado],MATCH(1,(ejecuciones[Column1.codigoIndicador]=A20)*(ejecuciones[Column1.fechaDiligenciamiento]=_xlfn.MAXIFS(ejecuciones[Column1.fechaDiligenciamiento],ejecuciones[Column1.codigoIndicador],A20)),0)),0)} -> 0 | AJ20: =IFERROR(AI20/AG20,0) -> 0
A21: 20 | B21: SECRETARÍA DE SERVICIOS PÚBLICOS | C21: BOLIVAR ME ENAMORA CON JUSTICIA SOCIAL; CIERRE DE BRECHAS Y CALIDAD DE VIDA PARA TODOS | D21: BOLÍVAR ME ENAMORA CON SERVICIOS PÚBLICOS | E21: SANEAMIENTO BÁSICO | F21: 4003 | G21: ACCESO DE LA POBLACIÓN A LOS SERVICIOS DE AGUA POTABLE Y SANEAMIENTO BÁSICO | H21: AGUA POTABLE Y SANEAMIENTO BÁSICO (SIN INCLUIR PROYECTOS DE VIS) | I21: 31 | J21: REALIZAR 2 ESTUDIOS O DISEÑOS | K21: 4003042 | L21: ESTUDIOS DE PREINVERSIÓN E INVERSIÓN | M21: ESTUDIOS O DISEÑOS REALIZADOS | N21: NÚMERO | O21: 0 | P21: N/A | Q21: N/A | R21: 1 | S21: 2 | U21: =+T21/S21 -> 0 | W21: =+V21/S21 -> 0 | X21: {=IFERROR(INDEX(ejecuciones[Column1.ejecutado],MATCH(1,(ejecuciones[Column1.codigoIndicador]=A21)*(ejecuciones[periodo avance]="Marzo"),0)),0)} -> 0 | Y21: {=IFERROR(INDEX(ejecuciones[Column1.ejecutado],MATCH(1,(ejecuciones[Column1.codigoIndicador]=A21)*(ejecuciones[periodo avance]="Junio"),0)),0)} -> 0 | Z21: {=IFERROR(INDEX(ejecuciones[Column1.ejecutado],MATCH(1,(ejecuciones[Column1.codigoIndicador]=A21)*(ejecuciones[periodo avance]="Septiembre"),0)),0)} -> 0 | AA21: {=IFERROR(INDEX(ejecuciones[Column1.ejecutado],MATCH(1,(ejecuciones[Column1.codigoIndicador]=A21)*(ejecuciones[periodo avance]="Diciembre"),0)),0)} -> 0 | AB21: =+X21+Y21+Z21+AA21 -> 0 | AC21: =+AB21/S21 -> 0 | AD21: =V21+AB21 -> 0 | AE21: =+AB21/R21 -> 0 | AF21: =AD21/S21 -> 0 | AG21: {=IFERROR(INDEX(ejecuciones[Column1.presupuestoProyectado],MATCH(1,(ejecuciones[Column1.codigoIndicador]=A21)*(ejecuciones[Column1.fechaDiligenciamiento]=_xlfn.MAXIFS(ejecuciones[Column1.fechaDiligenciamiento],ejecuciones[Column1.codigoIndicador],A21)),0)),0)} -> 0 | AI21: {=IFERROR(INDEX(ejecuciones[Column1.presupuestoEjecutado],MATCH(1,(ejecuciones[Column1.codigoIndicador]=A21)*(ejecuciones[Column1.fechaDiligenciamiento]=_xlfn.MAXIFS(ejecuciones[Column1.fechaDiligenciamiento],ejecuciones[Column1.codigoIndicador],A21)),0)),0)} -> 0 | AJ21: =IFERROR(AI21/AG21,0) -> 0
A22: 21 | B22: SECRETARÍA DE SERVICIOS PÚBLICOS | C22: BOLIVAR ME ENAMORA CON JUSTICIA SOCIAL; CIERRE DE BRECHAS Y CALIDAD DE VIDA PARA TODOS | D22: BOLÍVAR ME ENAMORA CON SERVICIOS PÚBLICOS | E22: SANEAMIENTO BÁSICO | F22: 4003 | G22: ACCESO DE LA POBLACIÓN A LOS SERVICIOS DE AGUA POTABLE Y SANEAMIENTO BÁSICO | H22: AGUA POTABLE Y SANEAMIENTO BÁSICO (SIN INCLUIR PROYECTOS DE VIS) | I22: 32 | J22: AUMENTAR LA COBERTURA DE ALCANTARILLADO | K22: 4003018, 4003019 y 4003020 | L22: ALCANTARILLADOS CONSTRUIDOS, AMPLIADOS Y OPTIMIZADOS | M22: ALCANTARILLADOS CONSTRUIDOS, AMPLIADOS Y OPTIMIZADOS | N22: NÚMERO | O22: 0 | P22: N/A | Q22: N/A | R22: 1 | S22: 4 | U22: =+T22/S22 -> 0 | W22: =+V22/S22 -> 0 | X22: {=IFERROR(INDEX(ejecuciones[Column1.ejecutado],MATCH(1,(ejecuciones[Column1.codigoIndicador]=A22)*(ejecuciones[periodo avance]="Marzo"),0)),0)} -> 0 | Y22: {=IFERROR(INDEX(ejecuciones[Column1.ejecutado],MATCH(1,(ejecuciones[Column1.codigoIndicador]=A22)*(ejecuciones[periodo avance]="Junio"),0)),0)} -> 0 | Z22: {=IFERROR(INDEX(ejecuciones[Column1.ejecutado],MATCH(1,(ejecuciones[Column1.codigoIndicador]=A22)*(ejecuciones[periodo avance]="Septiembre"),0)),0)} -> 0 | AA22: {=IFERROR(INDEX(ejecuciones[Column1.ejecutado],MATCH(1,(ejecuciones[Column1.codigoIndicador]=A22)*(ejecuciones[periodo avance]="Diciembre"),0)),0)} -> 0 | AB22: =+X22+Y22+Z22+AA22 -> 0 | AC22: =+AB22/S22 -> 0 | AD22: =V22+AB22 -> 0 | AE22: =+AB22/R22 -> 0 | AF22: =AD22/S22 -> 0 | AG22: {=IFERROR(INDEX(ejecuciones[Column1.presupuestoProyectado],MATCH(1,(ejecuciones[Column1.codigoIndicador]=A22)*(ejecuciones[Column1.fechaDiligenciamiento]=_xlfn.MAXIFS(ejecuciones[Column1.fechaDiligenciamiento],ejecuciones[Column1.codigoIndicador],A22)),0)),0)} -> 7202963575 | AI22: {=IFERROR(INDEX(ejecuciones[Column1.presupuestoEjecutado],MATCH(1,(ejecuciones[Column1.codigoIndicador]=A22)*(ejecuciones[Column1.fechaDiligenciamiento]=_xlfn.MAXIFS(ejecuciones[Column1.fechaDiligenciamiento],ejecuciones[Column1.codigoIndicador],A22)),0)),0)} -> 0 | AJ22: =IFERROR(AI22/AG22,0) -> 0
A23: 22 | B23: AGUAS DE BOLÍVAR S.A. E.S.P | C23: BOLIVAR ME ENAMORA CON JUSTICIA SOCIAL; CIERRE DE BRECHAS Y CALIDAD DE VIDA PARA TODOS | D23: BOLÍVAR ME ENAMORA EN HÁBITAT, VIVIENDA Y SERVICIOS PÚBLICOS | E23: SANEAMIENTO BÁSICO | F23: 4003 | G23: ACCESO DE LA POBLACIÓN A LOS SERVICIOS DE AGUA POTABLE Y SANEAMIENTO BÁSICO | H23: AGUA POTABLE Y SANEAMIENTO BÁSICO (SIN INCLUIR PROYECTOS DE VIS) | I23: 33 | J23: AUMENTAR LA COBERTURA DE ALCANTARILLADO | K23: 4003018, 4003019 y 4003020 | L23: ALCANTARILLADOS CONSTRUIDOS, AMPLIADOS Y OPTIMIZADOS | M23: ALCANTARILLADOS CONSTRUIDOS, AMPLIADOS Y OPTIMIZADOS | N23: NÚMERO | O23: 0 | P23: N/A | Q23: N/A | R23: 2 | S23: 6 | U23: =+T23/S23 -> 0 | W23: =+V23/S23 -> 0 | X23: {=IFERROR(INDEX(ejecuciones[Column1.ejecutado],MATCH(1,(ejecuciones[Column1.codigoIndicador]=A23)*(ejecuciones[periodo avance]="Marzo"),0)),0)} -> 0 | Y23: {=IFERROR(INDEX(ejecuciones[Column1.ejecutado],MATCH(1,(ejecuciones[Column1.codigoIndicador]=A23)*(ejecuciones[periodo avance]="Junio"),0)),0)} -> 0 | Z23: {=IFERROR(INDEX(ejecuciones[Column1.ejecutado],MATCH(1,(ejecuciones[Column1.codigoIndicador]=A23)*(ejecuciones[periodo avance]="Septiembre"),0)),0)} -> 0 | AA23: {=IFERROR(INDEX(ejecuciones[Column1.ejecutado],MATCH(1,(ejecuciones[Column1.codigoIndicador]=A23)*(ejecuciones[periodo avance]="Diciembre"),0)),0)} -> 0 | AB23: =+X23+Y23+Z23+AA23 -> 0 | AC23: =+AB23/S23 -> 0 | AD23: =V23+AB23 -> 0 | AE23: =+AB23/R23 -> 0 | AF23: =AD23/S23 -> 0 | AG23: {=IFERROR(INDEX(ejecuciones[Column1.presupuestoProyectado],MATCH(1,(ejecuciones[Column1.codigoIndicador]=A23)*(ejecuciones[Column1.fechaDiligenciamiento]=_xlfn.MAXIFS(ejecuciones[Column1.fechaDiligenciamiento],ejecuciones[Column1.codigoIndicador],A23)),0)),0)} -> 53030857253 | AI23: {=IFERROR(INDEX(ejecuciones[Column1.presupuestoEjecutado],MATCH(1,(ejecuciones[Column1.codigoIndicador]=A23)*(ejecuciones[Column1.fechaDiligenciamiento]=_xlfn.MAXIFS(ejecuciones[Column1.fechaDiligenciamiento],ejecuciones[Column1.codigoIndicador],A23)),0)),0)} -> 0 | AJ23: =IFERROR(AI23/AG23,0) -> 0
A24: 23 | B24: SECRETARÍA DE SERVICIOS PÚBLICOS | C24: BOLIVAR ME ENAMORA CON JUSTICIA SOCIAL; CIERRE DE BRECHAS Y CALIDAD DE VIDA PARA TODOS | D24: BOLÍVAR ME ENAMORA CON SERVICIOS PÚBLICOS | E24: SERVICIOS PÚBLICOS | F24: 4003 | G24: ACCESO DE LA POBLACIÓN A LOS SERVICIOS DE AGUA POTABLE Y SANEAMIENTO BÁSICO | H24: AGUA POTABLE Y SANEAMIENTO BÁSICO (SIN INCLUIR PROYECTOS DE VIS) | I24: 35 | J24: AUMENTAR LA COBERTURA DE ACUEDUCTO | K24: 4003042 | L24: ESTUDIOS DE PREINVERSIÓN E INVERSIÓN | M24: ESTUDIOS O DISEÑOS REALIZADOS | N24: NÚMERO | O24: 0 | P24: N/A | Q24: N/A | R24: 1 | S24: 2 | U24: =+T24/S24 -> 0 | W24: =+V24/S24 -> 0 | X24: {=IFERROR(INDEX(ejecuciones[Column1.ejecutado],MATCH(1,(ejecuciones[Column1.codigoIndicador]=A24)*(ejecuciones[periodo avance]="Marzo"),0)),0)} -> 0 | Y24: {=IFERROR(INDEX(ejecuciones[Column1.ejecutado],MATCH(1,(ejecuciones[Column1.codigoIndicador]=A24)*(ejecuciones[periodo avance]="Junio"),0)),0)} -> 0 | Z24: {=IFERROR(INDEX(ejecuciones[Column1.ejecutado],MATCH(1,(ejecuciones[Column1.codigoIndicador]=A24)*(ejecuciones[periodo avance]="Septiembre"),0)),0)} -> 0 | AA24: {=IFERROR(INDEX(ejecuciones[Column1.ejecutado],MATCH(1,(ejecuciones[Column1.codigoIndicador]=A24)*(ejecuciones[periodo avance]="Diciembre"),0)),0)} -> 0 | AB24: =+X24+Y24+Z24+AA24 -> 0 | AC24: =+AB24/S24 -> 0 | AD24: =V24+AB24 -> 0 | AE24: =+AB24/R24 -> 0 | AF24: =AD24/S24 -> 0 | AG24: {=IFERROR(INDEX(ejecuciones[Column1.presupuestoProyectado],MATCH(1,(ejecuciones[Column1.codigoIndicador]=A24)*(ejecuciones[Column1.fechaDiligenciamiento]=_xlfn.MAXIFS(ejecuciones[Column1.fechaDiligenciamiento],ejecuciones[Column1.codigoIndicador],A24)),0)),0)} -> 0 | AI24: {=IFERROR(INDEX(ejecuciones[Column1.presupuestoEjecutado],MATCH(1,(ejecuciones[Column1.codigoIndicador]=A24)*(ejecuciones[Column1.fechaDiligenciamiento]=_xlfn.MAXIFS(ejecuciones[Column1.fechaDiligenciamiento],ejecuciones[Column1.codigoIndicador],A24)),0)),0)} -> 0 | AJ24: =IFERROR(AI24/AG24,0) -> 0
A25: 24 | B25: SECRETARÍA DE SERVICIOS PÚBLICOS | C25: BOLIVAR ME ENAMORA CON JUSTICIA SOCIAL; CIERRE DE BRECHAS Y CALIDAD DE VIDA PARA TODOS | D25: BOLÍVAR ME ENAMORA CON SERVICIOS PÚBLICOS | E25: SERVICIOS PÚBLICOS | F25: 4003 | G25: ACCESO DE LA POBLACIÓN A LOS SERVICIOS DE AGUA POTABLE Y SANEAMIENTO BÁSICO | H25: AGUA POTABLE Y SANEAMIENTO BÁSICO (SIN INCLUIR PROYECTOS DE VIS) | I25: 36 | J25: AUMENTAR LA COBERTURA DE ACUEDUCTO | K25: 4003015, 4003016 y 4003017 | L25: ACUEDUCTOS CONSTRUIDOS | M25: ACUEDUCTOS CONSTRUIDOS, AMPLIADOS Y OPTIMIZADOS | N25: NÚMERO | O25: 0 | P25: N/A | Q25: N/A | R25: 1 | S25: 4 | U25: =+T25/S25 -> 0 | W25: =+V25/S25 -> 0 | X25: {=IFERROR(INDEX(ejecuciones[Column1.ejecutado],MATCH(1,(ejecuciones[Column1.codigoIndicador]=A25)*(ejecuciones[periodo avance]="Marzo"),0)),0)} -> 0 | Y25: {=IFERROR(INDEX(ejecuciones[Column1.ejecutado],MATCH(1,(ejecuciones[Column1.codigoIndicador]=A25)*(ejecuciones[periodo avance]="Junio"),0)),0)} -> 0 | Z25: {=IFERROR(INDEX(ejecuciones[Column1.ejecutado],MATCH(1,(ejecuciones[Column1.codigoIndicador]=A25)*(ejecuciones[periodo avance]="Septiembre"),0)),0)} -> 0 | AA25: {=IFERROR(INDEX(ejecuciones[Column1.ejecutado],MATCH(1,(ejecuciones[Column1.codigoIndicador]=A25)*(ejecuciones[periodo avance]="Diciembre"),0)),0)} -> 0 | AB25: =+X25+Y25+Z25+AA25 -> 0 | AC25: =+AB25/S25 -> 0 | AD25: =V25+AB25 -> 0 | AE25: =+AB25/R25 -> 0 | AF25: =AD25/S25 -> 0 | AG25: {=IFERROR(INDEX(ejecuciones[Column1.presupuestoProyectado],MATCH(1,(ejecuciones[Column1.codigoIndicador]=A25)*(ejecuciones[Column1.fechaDiligenciamiento]=_xlfn.MAXIFS(ejecuciones[Column1.fechaDiligenciamiento],ejecuciones[Column1.codigoIndicador],A25)),0)),0)} -> 7000000 | AI25: {=IFERROR(INDEX(ejecuciones[Column1.presupuestoEjecutado],MATCH(1,(ejecuciones[Column1.codigoIndicador]=A25)*(ejecuciones[Column1.fechaDiligenciamiento]=_xlfn.MAXIFS(ejecuciones[Column1.fechaDiligenciamiento],ejecuciones[Column1.codigoIndicador],A25)),0)),0)} -> 0 | AJ25: =IFERROR(AI25/AG25,0) -> 0
A26: 25 | B26: AGUAS DE BOLÍVAR S.A. E.S.P | C26: BOLIVAR ME ENAMORA CON JUSTICIA SOCIAL; CIERRE DE BRECHAS Y CALIDAD DE VIDA PARA TODOS | D26: BOLÍVAR ME ENAMORA EN HÁBITAT, VIVIENDA Y SERVICIOS PÚBLICOS | E26: SERVICIOS PÚBLICOS | F26: 4003 | G26: ACCESO DE LA POBLACIÓN A LOS SERVICIOS DE AGUA POTABLE Y SANEAMIENTO BÁSICO | H26: AGUA POTABLE Y SANEAMIENTO BÁSICO (SIN INCLUIR PROYECTOS DE VIS) | I26: 37 | J26: AUMENTAR LA COBERTURA DE ACUEDUCTO | K26: 4003015, 4003016 y 4003017 | L26: ACUEDUCTOS CONSTRUIDOS | M26: ACUEDUCTOS CONSTRUIDOS, AMPLIADOS Y OPTIMIZADOS | N26: NÚMERO | O26: 0 | P26: N/A | Q26: N/A | R26: 5 | S26: 14 | U26: =+T26/S26 -> 0 | W26: =+V26/S26 -> 0 | X26: {=IFERROR(INDEX(ejecuciones[Column1.ejecutado],MATCH(1,(ejecuciones[Column1.codigoIndicador]=A26)*(ejecuciones[periodo avance]="Marzo"),0)),0)} -> 2 | Y26: {=IFERROR(INDEX(ejecuciones[Column1.ejecutado],MATCH(1,(ejecuciones[Column1.codigoIndicador]=A26)*(ejecuciones[periodo avance]="Junio"),0)),0)} -> 0 | Z26: {=IFERROR(INDEX(ejecuciones[Column1.ejecutado],MATCH(1,(ejecuciones[Column1.codigoIndicador]=A26)*(ejecuciones[periodo avance]="Septiembre"),0)),0)} -> 0 | AA26: {=IFERROR(INDEX(ejecuciones[Column1.ejecutado],MATCH(1,(ejecuciones[Column1.codigoIndicador]=A26)*(ejecuciones[periodo avance]="Diciembre"),0)),0)} -> 0 | AB26: =+X26+Y26+Z26+AA26 -> 2 | AC26: =+AB26/S26 -> 0.14285714 | AD26: =V26+AB26 -> 2 | AE26: =+AB26/R26 -> 0.4 | AF26: =AD26/S26 -> 0.14285714 | AG26: {=IFERROR(INDEX(ejecuciones[Column1.presupuestoProyectado],MATCH(1,(ejecuciones[Column1.codigoIndicador]=A26)*(ejecuciones[Column1.fechaDiligenciamiento]=_xlfn.MAXIFS(ejecuciones[Column1.fechaDiligenciamiento],ejecuciones[Column1.codigoIndicador],A26)),0)),0)} -> 75918058716 | AI26: {=IFERROR(INDEX(ejecuciones[Column1.presupuestoEjecutado],MATCH(1,(ejecuciones[Column1.codigoIndicador]=A26)*(ejecuciones[Column1.fechaDiligenciamiento]=_xlfn.MAXIFS(ejecuciones[Column1.fechaDiligenciamiento],ejecuciones[Column1.codigoIndicador],A26)),0)),0)} -> 42361790845 | AJ26: =IFERROR(AI26/AG26,0) -> 0.5579936
A27: 26 | B27: AGUAS DE BOLÍVAR S.A. E.S.P | C27: BOLIVAR ME ENAMORA CON JUSTICIA SOCIAL; CIERRE DE BRECHAS Y CALIDAD DE VIDA PARA TODOS | D27: BOLÍVAR ME ENAMORA EN HÁBITAT, VIVIENDA Y SERVICIOS PÚBLICOS | E27: SERVICIOS PÚBLICOS | F27: 4003 | G27: ASEGURAMIENTO DE LA PRESTACIÓN DE SERVICIOS | H27: AGUA POTABLE Y SANEAMIENTO BÁSICO (SIN INCLUIR PROYECTOS DE VIS) | I27: 38 | J27: AUMENTAR ASISTENCIA TÉCNICA A MUNICIPIOS PARA LA PRESTACIÓN DE LOS SERVICIOS | K27: 4003002 | L27: SERVICIO DE ASISTENCIA TÉCNICA EN REGULACIÓN DE AGUA POTABLE Y SANEAMIENTO BÁSICO | M27: ENTIDADES TERRITORIALES ASISTIDAS TÉCNICAMENTE | N27: NÚMERO | O27: 0 | P27: 2023 | Q27: N/A | R27: 10 | S27: 45 | U27: =+T27/S27 -> 0 | W27: =+V27/S27 -> 0 | X27: {=IFERROR(INDEX(ejecuciones[Column1.ejecutado],MATCH(1,(ejecuciones[Column1.codigoIndicador]=A27)*(ejecuciones[periodo avance]="Marzo"),0)),0)} -> 0 | Y27: {=IFERROR(INDEX(ejecuciones[Column1.ejecutado],MATCH(1,(ejecuciones[Column1.codigoIndicador]=A27)*(ejecuciones[periodo avance]="Junio"),0)),0)} -> 0 | Z27: {=IFERROR(INDEX(ejecuciones[Column1.ejecutado],MATCH(1,(ejecuciones[Column1.codigoIndicador]=A27)*(ejecuciones[periodo avance]="Septiembre"),0)),0)} -> 0 | AA27: {=IFERROR(INDEX(ejecuciones[Column1.ejecutado],MATCH(1,(ejecuciones[Column1.codigoIndicador]=A27)*(ejecuciones[periodo avance]="Diciembre"),0)),0)} -> 0 | AB27: =+X27+Y27+Z27+AA27 -> 0 | AC27: =+AB27/S27 -> 0 | AD27: =V27+AB27 -> 0 | AE27: =+AB27/R27 -> 0 | AF27: =AD27/S27 -> 0 | AG27: {=IFERROR(INDEX(ejecuciones[Column1.presupuestoProyectado],MATCH(1,(ejecuciones[Column1.codigoIndicador]=A27)*(ejecuciones[Column1.fechaDiligenciamiento]=_xlfn.MAXIFS(ejecuciones[Column1.fechaDiligenciamiento],ejecuciones[Column1.codigoIndicador],A27)),0)),0)} -> 7994300000 | AI27: {=IFERROR(INDEX(ejecuciones[Column1.presupuestoEjecutado],MATCH(1,(ejecuciones[Column1.codigoIndicador]=A27)*(ejecuciones[Column1.fechaDiligenciamiento]=_xlfn.MAXIFS(ejecuciones[Column1.fechaDiligenciamiento],ejecuciones[Column1.codigoIndicador],A27)),0)),0)} -> 2000000000 | AJ27: =IFERROR(AI27/AG27,0) -> 0.25017825
A28: 27 | B28: SECRETARÍA DE DESARROLLO ECONÓMICO - DIRECCIÓN VIVIENDA | C28: BOLIVAR ME ENAMORA CON JUSTICIA SOCIAL; CIERRE DE BRECHAS Y CALIDAD DE VIDA PARA TODOS | D28: BOLÍVAR ME ENAMORA EN HÁBITAT, VIVIENDA Y SERVICIOS PÚBLICOS | E28: BOLÍVAR MI CASA ME ENAMORA | F28: 4001 | G28: ACCESO A SOLUCIONES DE VIVIENDA | H28: VIVIENDA | I28: 39 | J28: APOYO A LOS MUNICIPIOS Y/ O PREDIOS DE LA GOBERNACION, EN LA CONSTRUCCION Y ELABORACION DE PRODUCTOS ENCAMINADOS A LA LEGALIZACION DE PREDIOS FISCALES. | K28: 4001001 | L28: SERVICIO DE ASISTENCIA TÉCNICA Y JURÍDICA EN SANEAMIENTO Y TITULACIÓN DE PREDIOS | M28: ENTIDADES TERRITORIALES ASISTIDAS TÉCNICA Y JURÍDICAMENTE | N28: NUMERO | O28: 0 | P28: N/A | Q28: N/A | R28: 4 | S28: 15 | U28: =+T28/S28 -> 0 | W28: =+V28/S28 -> 0 | X28: {=IFERROR(INDEX(ejecuciones[Column1.ejecutado],MATCH(1,(ejecuciones[Column1.codigoIndicador]=A28)*(ejecuciones[periodo avance]="Marzo"),0)),0)} -> 0 | Y28: {=IFERROR(INDEX(ejecuciones[Column1.ejecutado],MATCH(1,(ejecuciones[Column1.codigoIndicador]=A28)*(ejecuciones[periodo avance]="Junio"),0)),0)} -> 0 | Z28: {=IFERROR(INDEX(ejecuciones[Column1.ejecutado],MATCH(1,(ejecuciones[Column1.codigoIndicador]=A28)*(ejecuciones[periodo avance]="Septiembre"),0)),0)} -> 0 | AA28: {=IFERROR(INDEX(ejecuciones[Column1.ejecutado],MATCH(1,(ejecuciones[Column1.codigoIndicador]=A28)*(ejecuciones[periodo avance]="Diciembre"),0)),0)} -> 0 | AB28: =+X28+Y28+Z28+AA28 -> 0 | AC28: =+AB28/S28 -> 0 | AD28: =V28+AB28 -> 0 | AE28: =+AB28/R28 -> 0 | AF28: =AD28/S28 -> 0 | AG28: {=IFERROR(INDEX(ejecuciones[Column1.presupuestoProyectado],MATCH(1,(ejecuciones[Column1.codigoIndicador]=A28)*(ejecuciones[Column1.fechaDiligenciamiento]=_xlfn.MAXIFS(ejecuciones[Column1.fechaDiligenciamiento],ejecuciones[Column1.codigoIndicador],A28)),0)),0)} -> 0 | AI28: {=IFERROR(INDEX(ejecuciones[Column1.presupuestoEjecutado],MATCH(1,(ejecuciones[Column1.codigoIndicador]=A28)*(ejecuciones[Column1.fechaDiligenciamiento]=_xlfn.MAXIFS(ejecuciones[Column1.fechaDiligenciamiento],ejecuciones[Column1.codigoIndicador],A28)),0)),0)} -> 0 | AJ28: =IFERROR(AI28/AG28,0) -> 0
